BEGIN:VCALENDAR
VERSION:2.0
PRODID:-//Trifecta Sports Collectibles - ECPv6.15.20//NONSGML v1.0//EN
CALSCALE:GREGORIAN
METHOD:PUBLISH
X-WR-CALNAME:Trifecta Sports Collectibles
X-ORIGINAL-URL:https://www.trifectacollectibles.com
X-WR-CALDESC:Events for Trifecta Sports Collectibles
REFRESH-INTERVAL;VALUE=DURATION:PT1H
X-Robots-Tag:noindex
X-PUBLISHED-TTL:PT1H
BEGIN:VTIMEZONE
TZID:America/Los_Angeles
BEGIN:DAYLIGHT
TZOFFSETFROM:-0800
TZOFFSETTO:-0700
TZNAME:PDT
DTSTART:20160313T100000
END:DAYLIGHT
BEGIN:STANDARD
TZOFFSETFROM:-0700
TZOFFSETTO:-0800
TZNAME:PST
DTSTART:20161106T090000
END:STANDARD
BEGIN:DAYLIGHT
TZOFFSETFROM:-0800
TZOFFSETTO:-0700
TZNAME:PDT
DTSTART:20170312T100000
END:DAYLIGHT
BEGIN:STANDARD
TZOFFSETFROM:-0700
TZOFFSETTO:-0800
TZNAME:PST
DTSTART:20171105T090000
END:STANDARD
BEGIN:DAYLIGHT
TZOFFSETFROM:-0800
TZOFFSETTO:-0700
TZNAME:PDT
DTSTART:20180311T100000
END:DAYLIGHT
BEGIN:STANDARD
TZOFFSETFROM:-0700
TZOFFSETTO:-0800
TZNAME:PST
DTSTART:20181104T090000
END:STANDARD
END:VTIMEZONE
BEGIN:VTIMEZONE
TZID:UTC
BEGIN:STANDARD
TZOFFSETFROM:+0000
TZOFFSETTO:+0000
TZNAME:UTC
DTSTART:20160101T000000
END:STANDARD
END:VTIMEZONE
BEGIN:VEVENT
DTSTART;TZID=America/Los_Angeles:20171209T110000
DTEND;TZID=America/Los_Angeles:20171209T123000
DTSTAMP:20260419T065531
CREATED:20171207T082704Z
LAST-MODIFIED:20210818T191627Z
UID:846-1512817200-1512822600@www.trifectacollectibles.com
SUMMARY:Jeremy Affeldt
DESCRIPTION:Jeremy Affeldt will be signing autographs on December 9th\, 2017 from 11:00am to 12:30pm \nHe will be signing at the New Balance Flagship Store in San Francisco.  Here is their information taken from their Instagram post… \nJoin #NBSF as we host #Sfgiants very own ⚾️Jeremy Affeldt⚾️ On 12/9 from 11am-1230pm @nb_flagshipsf welcomes @jeremyaffeldt for a personal meet and greet experience. **Simply make a purchase of $30 or more to meet Jeremy and get 1 piece of personal memorabilia signed
URL:https://www.trifectacollectibles.com/event/jeremy-affeldt/
CATEGORIES:Past Events
END:VEVENT
BEGIN:VEVENT
DTSTART;TZID=America/Los_Angeles:20171126T150000
DTEND;TZID=America/Los_Angeles:20171126T183000
DTSTAMP:20260419T065531
CREATED:20171114T035911Z
LAST-MODIFIED:20210818T191617Z
UID:829-1511708400-1511721000@www.trifectacollectibles.com
SUMMARY:Patrick McCaw and Jordan Bell
DESCRIPTION:Classic Materials and Autograph Dynasty presents …\nPATRICK McCAW (3pm – 4:30pm)\n\n$39.99 Flats up to 8×10\n$49.99 Ball\, Jersey\, Large Flats\n$34.99 Photo-Op\n$24.99 Inscription \nJORDAN BELL (5pm – 6:30pm)\n$29.99 Flats up to 8×10\n$39.99 Ball\, Jersey\, Large Flats\n$24.99 Photo-Op\n$14.99 Inscription \nBoth players will be there on November 26th\, 2017\nClassic Materials is located in Serramonte Center Mall\, Daly City \nTickets available in store or by phone\n(650) 589-2990 \n \n 
URL:https://www.trifectacollectibles.com/event/patrick-mccaw-and-jordan-bell/
LOCATION:Classic Materials\, 36-A Serramonte Center\, Daly City\, 94015\, United States
CATEGORIES:Past Events
END:VEVENT
BEGIN:VEVENT
DTSTART;VALUE=DATE:20171118
DTEND;VALUE=DATE:20171119
DTSTAMP:20260419T065531
CREATED:20171010T053634Z
LAST-MODIFIED:20210818T191435Z
UID:669-1510963200-1511049599@www.trifectacollectibles.com
SUMMARY:Stephen Curry (PRIVATE SIGNING)
DESCRIPTION:Stephen Curry will be doing a Private Signing with Steiner Sports in November.  Private Signings are when you send in your item that you want to get signed to the company holding the private signing and they will get it signed for you.  After it is signed\, they will ship your item back to you.  You will not have access to the athlete.  I’ve attached a couple of links below on the company that will be holding the private signing.  Curry recently signed an exclusive contract with Steiner Sports. \nRead about it here.  https://www.steinersports.com/blogs/playbook/stephen-curry-signs-exclusive-collectibles-deal-with-steiner-sports-memorabilia \nLink is attached below with the cost and how to send in your item to Steiner Sports. \nhttps://www.steinersports.com/collections/steph-curry-send-in\nhttps://www.steinersports.com/pages/send-in-your-stuff \nALL ITEMS MUST BE SENT IN NO LATER THAN 11/18/2017.  Any questions\, please contact Steiner Sports directly.  Thank you!
URL:https://www.trifectacollectibles.com/event/stephen-curry-private-signing/
CATEGORIES:Past Events
END:VEVENT
BEGIN:VEVENT
DTSTART;TZID=America/Los_Angeles:20171112T080000
DTEND;TZID=America/Los_Angeles:20171112T170000
DTSTAMP:20260419T065531
CREATED:20171007T063909Z
LAST-MODIFIED:20210818T191421Z
UID:654-1510473600-1510506000@www.trifectacollectibles.com
SUMMARY:Julio Cesar Chavez
DESCRIPTION:World of Sports Memorabilia presents Julio Cesar Chavez:\nJulio Cesar Chavez\nNovember 12th. Start time To Be Announced\nFor more information\, contact World of Sports Memorabilia directly at 408-286-2151. \nClick on photo below for more detailed pricing.
URL:https://www.trifectacollectibles.com/event/julio-cesar-chavez/
LOCATION:World of Sports Memorabilia\, 1600 Saratoga Ave.\, San Jose\, CA\, 95110\, United States
CATEGORIES:Past Events
END:VEVENT
BEGIN:VEVENT
DTSTART;TZID=America/Los_Angeles:20171109T190000
DTEND;TZID=America/Los_Angeles:20171109T200000
DTSTAMP:20260419T065531
CREATED:20171012T013355Z
LAST-MODIFIED:20210818T191341Z
UID:706-1510254000-1510257600@www.trifectacollectibles.com
SUMMARY:Klay Thompson
DESCRIPTION:Lefty’s Sportscards presents:  Klay Thompson\nNovember 9th\, 2017 from 7pm – 8pm.\n\nRegular Items: Flats (photos and magazines\, NO artwork) are $99.00 per autograph\nPremium Items: Ball\, Jerseys and shoes \nIf you have a question about your item(s) being considered a premium or regular\, best call and make sure.\nFor more information\, contact Lefty’s Sports directly at (650) 697-2274 . \n*Tell them you heard about the event through Trifecta Sports Collectibles
URL:https://www.trifectacollectibles.com/event/klay-thompson/
LOCATION:Lefty’s Sports\, 1859 El Camino Real\, San Bruno\, 94010\, United States
CATEGORIES:Past Events
END:VEVENT
BEGIN:VEVENT
DTSTART;TZID=America/Los_Angeles:20171109T080000
DTEND;TZID=America/Los_Angeles:20171109T170000
DTSTAMP:20260419T065531
CREATED:20171007T052019Z
LAST-MODIFIED:20210818T191223Z
UID:648-1510214400-1510246800@www.trifectacollectibles.com
SUMMARY:David Carr (PRIVATE SIGNING)
DESCRIPTION:World of Sports Memorabilia presents DAVID CARR:\nDavid Carr (PRIVATE SIGNING)\nLast day to drop off items to World of Sports is November 9th.\nFor more information\, contact World of Sports Memorabilia directly at 408-286-2151. \nClick on photo below for more detailed pricing.
URL:https://www.trifectacollectibles.com/event/david-carr-private-signing/
LOCATION:World of Sports Memorabilia\, 1600 Saratoga Ave.\, San Jose\, CA\, 95110\, United States
CATEGORIES:Past Events
END:VEVENT
BEGIN:VEVENT
DTSTART;TZID=UTC:20171028T120000
DTEND;TZID=UTC:20171028T150000
DTSTAMP:20260419T065531
CREATED:20171007T054959Z
LAST-MODIFIED:20210818T191209Z
UID:651-1509192000-1509202800@www.trifectacollectibles.com
SUMMARY:Dwight Clark Jersey Retirement Signing
DESCRIPTION:World of Sports Memorabilia presents Dwight Clark:\nDwight Clark (Jersey Retirement signing)\nOctober 28th\, 12pm – 3pm.\nFor more information\, contact World of Sports Memorabilia directly at 408-286-2151. \nClick on photo below for more detailed pricing.
URL:https://www.trifectacollectibles.com/event/dwight-clark-jersey-retirement-signing/
LOCATION:World of Sports Memorabilia\, 1600 Saratoga Ave.\, San Jose\, CA\, 95110\, United States
CATEGORIES:Past Events
END:VEVENT
BEGIN:VEVENT
DTSTART;TZID=America/Los_Angeles:20171028T110000
DTEND;TZID=America/Los_Angeles:20171028T130000
DTSTAMP:20260419T065531
CREATED:20171010T043937Z
LAST-MODIFIED:20210818T191156Z
UID:667-1509188400-1509195600@www.trifectacollectibles.com
SUMMARY:Roger Craig and John Taylor
DESCRIPTION:Lefty’s Sportscards presents: Roger Craig & John Taylor\nOctober 28th\, 2017 from 11am – 1pm.\nFor more information\, contact Lefty’s Sports directly at (650) 697-2274 . \n*Tell them you heard about the event through Trifecta Sports Collectibles
URL:https://www.trifectacollectibles.com/event/roger-craig-and-john-taylor/
CATEGORIES:Past Events
END:VEVENT
BEGIN:VEVENT
DTSTART;TZID=America/Los_Angeles:20171021T110000
DTEND;TZID=America/Los_Angeles:20171021T120000
DTSTAMP:20260419T065531
CREATED:20171010T043624Z
LAST-MODIFIED:20210818T191146Z
UID:662-1508583600-1508587200@www.trifectacollectibles.com
SUMMARY:Rick Barry
DESCRIPTION:Lefty’s Sportscards presents: Rick Barry\nOctober 21st\, 2017 from 11 am – 12 pm.\nFor more information\, contact Lefty’s Sports directly at (650) 697-2274 . \n*Tell them you heard about the event through Trifecta Sports Collectibles
URL:https://www.trifectacollectibles.com/event/rick-barry/
CATEGORIES:Past Events
END:VEVENT
BEGIN:VEVENT
DTSTART;TZID=America/Los_Angeles:20171015T130000
DTEND;TZID=America/Los_Angeles:20171016T160000
DTSTAMP:20260419T065531
CREATED:20171007T042253Z
LAST-MODIFIED:20210818T191137Z
UID:645-1508072400-1508169600@www.trifectacollectibles.com
SUMMARY:Joe Montana\, Jerry Rice & Steve Young
DESCRIPTION:World of Sports Memorabilia presents the 49ers MVP’s: Joe Montana and Jerry Rice (Public Signing)\nOctober 15th\, 1pm – 4pm.\nSteve Young (Private Signing)\nOctober 16th\nFor more information\, contact World of Sports Memorabilia directly at 408-286-2151. \nClick on photo below for more detailed pricing.
URL:https://www.trifectacollectibles.com/event/joe-montana-jerry-rice-steve-young/
LOCATION:World of Sports Memorabilia\, 1600 Saratoga Ave.\, San Jose\, CA\, 95110\, United States
CATEGORIES:Past Events
END:VEVENT
BEGIN:VEVENT
DTSTART;TZID=America/Los_Angeles:20171014T140000
DTEND;TZID=America/Los_Angeles:20171014T180000
DTSTAMP:20260419T065531
CREATED:20171007T034736Z
LAST-MODIFIED:20210818T191044Z
UID:632-1507989600-1508004000@www.trifectacollectibles.com
SUMMARY:Jim Plunkett\, Marcus Allen & Fred Biletnikoff
DESCRIPTION:World of Sports Memorabilia presents the Raiders MVP’s:\nJim Plunkett\, Marcus Allen and Fred Biletnikoff\nOctober 14th\, 2pm – 6pm.\nFor more information\, contact World of Sports Memorabilia directly at 408-286-2151. \nClick on photo below for more detailed pricing. \n \n  \n 
URL:https://www.trifectacollectibles.com/event/jim-plunkett-marcus-allen-fred-biletnikoff/
CATEGORIES:Past Events
END:VEVENT
END:VCALENDAR