BEGIN:VCALENDAR
VERSION:2.0
PRODID:-//Trifecta Sports Collectibles - ECPv6.15.20//NONSGML v1.0//EN
CALSCALE:GREGORIAN
METHOD:PUBLISH
X-WR-CALNAME:Trifecta Sports Collectibles
X-ORIGINAL-URL:https://www.trifectacollectibles.com
X-WR-CALDESC:Events for Trifecta Sports Collectibles
REFRESH-INTERVAL;VALUE=DURATION:PT1H
X-Robots-Tag:noindex
X-PUBLISHED-TTL:PT1H
BEGIN:VTIMEZONE
TZID:America/Los_Angeles
BEGIN:DAYLIGHT
TZOFFSETFROM:-0800
TZOFFSETTO:-0700
TZNAME:PDT
DTSTART:20240310T100000
END:DAYLIGHT
BEGIN:STANDARD
TZOFFSETFROM:-0700
TZOFFSETTO:-0800
TZNAME:PST
DTSTART:20241103T090000
END:STANDARD
BEGIN:DAYLIGHT
TZOFFSETFROM:-0800
TZOFFSETTO:-0700
TZNAME:PDT
DTSTART:20250309T100000
END:DAYLIGHT
BEGIN:STANDARD
TZOFFSETFROM:-0700
TZOFFSETTO:-0800
TZNAME:PST
DTSTART:20251102T090000
END:STANDARD
BEGIN:DAYLIGHT
TZOFFSETFROM:-0800
TZOFFSETTO:-0700
TZNAME:PDT
DTSTART:20260308T100000
END:DAYLIGHT
BEGIN:STANDARD
TZOFFSETFROM:-0700
TZOFFSETTO:-0800
TZNAME:PST
DTSTART:20261101T090000
END:STANDARD
END:VTIMEZONE
BEGIN:VEVENT
DTSTART;TZID=America/Los_Angeles:20250517T100000
DTEND;TZID=America/Los_Angeles:20250518T170000
DTSTAMP:20260420T165536
CREATED:20250115T002100Z
LAST-MODIFIED:20250906T181635Z
UID:13007-1747476000-1747587600@www.trifectacollectibles.com
SUMMARY:Eastbay Sports Card & Collectors Show (2 Days)
DESCRIPTION:Eastbay Sports Card & Collectors Show (2 day show) For Vendor info\, contact @eastbaycardshow directly.\nWhen: May 17th & 18th\nWhere: Hyatt Regency – SF Airport\, 1333 Old Bayshore Hwy\, Burlingame\, Ca\nShow Hours: 9:30am – 5:00pm \nSaturday:\nDoors Open for VIP TIX at 9:30am – 11:00am\nGeneral Admission 11:00am – 5:00pm\nSunday: General Admission All Day 11:00am – 5:00pm \n125+ Vendors & Free Parking \nPSA Customer Service will be on-site accepting drop-off submissions for cards\, tickets\, packs\, dual service\, Funko pops\, autograph encapsulation\, and PSA Vault. Drop-off submissions will be accepted until Sunday\, May 18 at 4:00 pm. \nTo purchase VIP & Admission Tickets\, go to www.eastbaycardshow.com \n* Trifecta Sports Collectibles DOES NOT set the admission or autograph pricing for any event that we promote. Trifecta Sports Collectibles DOES NOT set the date of the event or responsible for any cancellations. Trifecta Sports Collectibles is not affiliated with the event or any companies which put the event together. We only help promote the event for the benefit of the members that follow us. \nAny questions contact the show promoter directly.\nPromoter: 10th Inning Productions;\nEmail: info@eastbaycardshow.com \nFor more information on this event or any other upcoming autograph or sports card show VISIT THE WEBSITE. Will announce the event here on IG\, but all the details will be on the website. \nStay in the know and follow our social media accounts below:\nInstagram: @trifecta_sports\nFacebook: Trifecta Sports Collectibles\nwww.TrifectaCollectibles.com
URL:https://www.trifectacollectibles.com/event/eastbay-sports-card-collectors-show-2-days/
LOCATION:Hyatt Regency\, 1333 Old Bayshore Hwy\, Burlingame\, Ca\, United States
CATEGORIES:All Events,Past Events,Sports Card/Memorabilia Shows
END:VEVENT
END:VCALENDAR