BEGIN:VCALENDAR
VERSION:2.0
PRODID:-//Trifecta Sports Collectibles - ECPv6.15.20//NONSGML v1.0//EN
CALSCALE:GREGORIAN
METHOD:PUBLISH
X-ORIGINAL-URL:https://www.trifectacollectibles.com
X-WR-CALDESC:Events for Trifecta Sports Collectibles
REFRESH-INTERVAL;VALUE=DURATION:PT1H
X-Robots-Tag:noindex
X-PUBLISHED-TTL:PT1H
BEGIN:VTIMEZONE
TZID:America/Los_Angeles
BEGIN:DAYLIGHT
TZOFFSETFROM:-0800
TZOFFSETTO:-0700
TZNAME:PDT
DTSTART:20240310T100000
END:DAYLIGHT
BEGIN:STANDARD
TZOFFSETFROM:-0700
TZOFFSETTO:-0800
TZNAME:PST
DTSTART:20241103T090000
END:STANDARD
BEGIN:DAYLIGHT
TZOFFSETFROM:-0800
TZOFFSETTO:-0700
TZNAME:PDT
DTSTART:20250309T100000
END:DAYLIGHT
BEGIN:STANDARD
TZOFFSETFROM:-0700
TZOFFSETTO:-0800
TZNAME:PST
DTSTART:20251102T090000
END:STANDARD
BEGIN:DAYLIGHT
TZOFFSETFROM:-0800
TZOFFSETTO:-0700
TZNAME:PDT
DTSTART:20260308T100000
END:DAYLIGHT
BEGIN:STANDARD
TZOFFSETFROM:-0700
TZOFFSETTO:-0800
TZNAME:PST
DTSTART:20261101T090000
END:STANDARD
END:VTIMEZONE
BEGIN:VEVENT
DTSTART;VALUE=DATE:20250418
DTEND;VALUE=DATE:20250421
DTSTAMP:20260420T183257
CREATED:20241122T085611Z
LAST-MODIFIED:20250421T173615Z
UID:12768-1744934400-1745193599@www.trifectacollectibles.com
SUMMARY:Joe Montana\, Jim Plunkett\, Kelenna Azubuike & more Meet and Greets at the SF Card & Collectible Convention
DESCRIPTION:Empire Sports & World of Sports Memorabilia Presents the Spring Show\nWhere: San Mateo County Event Center (Fiesta Hall)\nWhen: April 18-20\, 2025\nVendors: 300 Tables availabe.  Buy\, Sell and Trade with the best dealers.\nMail In Deadline: April 12th\, 2024 – Must have item(s) and Payment by this date. \nAutograph Guest: Joe Montana\, Jim Plunkett\, Kelenna Azubuike\, Ari Lehman & Lester Hayes \n \nJoe Montana: Autograph Pricing (Appearing April 19th – 11:30am)\n$250.00 – Flats up to 16×20 & Mini Helmet\n$290.00 – Footballs\, Full Size Helmets\, Jerseys\n$600.00 – Crossover Items (Combo pieces with non NFL Players\n$750.00 – Seats / Seat Backs\n$950.00 – Rookie Trading Cards & Tickets\n$1250.00 – Artwork\, Litho\, Giclee (Must be approved)\n$1100.00 – Any item with Tom Brady\n$250.00 – Photo Ops \nInscription Options:\n$175.00 – Basic 3 Word Max Inscription (Examples: HOF\, Joe Cool\, GOAT\, Etc)\n$200.00 – Personalization or 1977 National Champs\n$350.00 – SB XVI – XIX – XXIV – MVP\n$550.00 – I left my Heart in San Francisco\n$1100.00 – Diagrams or Drawn Plays \nMail-In Order: Can’t attend the event but want to send your item in to get signed.  We can help you with this.  Click here for more info. \nCompleted Item Pricing: If you don’t have an item to send in\, we can provide the item for you to get signed. Pricing Options COMING SOON \nIf you can attend the event\, you can purchase your advance Autograph Tickets at this link. You can also buy the tickets the day of the show\, but I suggest getting them sooner than later.  Purchase Advance Joe Montana Tickets (This link is for people attending the event\, NOT Mail-In) \n\nKelenna’s Famous Gourmet Cornbread: (Appearing April 19th – 12:00pm)\nWith any purchase of Kelenna’s Famous Gourmet Cornbread at the show\, you will receive an autograph or photo op.\nChoose from Caramel\, Ube Salted Egg\, Roasted Jalapeno\, Blueberry White Chocolate and more. Here are the details for the Meet and Greet: \n\nYour receipt of purchase will be your ticket to meet Kelenna at the show.\nMaximum 5 people per Photo Op per Receipt/Ticket. Your complete party must be present at time of photo op. You will be asked to step aside if your complete party is not present.\nReceipt/Ticket needed to receive an autograph\n\n \nJim Plunkett: Autograph Pricing (Appearing April 19th – 12:00pm)\n$75.00 – Flats up to 16×20 & Mini Helmet\n$89.00 – Footballs\, Full Size Helmets\, Jerseys\n$40.00 – Inscriptions ( Heisman ’70 or SB SV MVP)\n$75.00 – Photo Ops \nMail-In Order: Can’t attend the event but want to send your item in to get signed.  We can help you with this.  Click here for more info.  \nAri Lehman appearing April 18th\, Friday starting at 3:00pm \n \nLester Hayes appearing Friday April 18th and Saturday April 19th (Will be there for the entire show) \n \n* Autograph pricing for Ari Lehman and Lester Hayes will be at the show.  \nIf you can’t attend the event\, Trifecta Sports Collectibles\, is an APPROVED Mail-In Partner to help you get the autograph(s) via our Mail-In Program. \nMail In and Completed Item Orders must be placed via EMAIL ONLY – DMs\, text\, or verbal request will not be fulfilled.  Thank you for your participation.\nEmail: trifectacollectibles@gmail.com to place your order or if you have any questions.   \n\nAlways stay in the know and follow our social media accounts below\, bookmark the website or send us an email if you have any questions. \nInstagram: @trifecta_sports_collectibles\nFacebook: Trifecta Sports Collectibles\nWebsite: www.TrifectaCollectibles.com\nEmail: trifectacollectibles@gmail.com \n** Trifecta Sports Collectibles DOES NOT set the date of the event or responsible for any cancellations. Trifecta Sports Collectibles is not affiliated with the event or any companies which put the event together. Trifecta Sports Collectibles ONLY helps promote the event for the benefit of the members that follow us.
URL:https://www.trifectacollectibles.com/event/san-mateo-card-collectible-convention-fiesta-hall/
LOCATION:San Mateo County Event Center Fiesta Hall\, 1346 Saratoga Dr\, San Mateo\, CA\, 94403
CATEGORIES:All Events,Autograph Signings,Past Events,Sports Card/Memorabilia Shows
END:VEVENT
END:VCALENDAR