BEGIN:VCALENDAR
VERSION:2.0
PRODID:-//Trifecta Sports Collectibles - ECPv6.15.20//NONSGML v1.0//EN
CALSCALE:GREGORIAN
METHOD:PUBLISH
X-WR-CALNAME:Trifecta Sports Collectibles
X-ORIGINAL-URL:https://www.trifectacollectibles.com
X-WR-CALDESC:Events for Trifecta Sports Collectibles
REFRESH-INTERVAL;VALUE=DURATION:PT1H
X-Robots-Tag:noindex
X-PUBLISHED-TTL:PT1H
BEGIN:VTIMEZONE
TZID:America/Los_Angeles
BEGIN:DAYLIGHT
TZOFFSETFROM:-0800
TZOFFSETTO:-0700
TZNAME:PDT
DTSTART:20240310T100000
END:DAYLIGHT
BEGIN:STANDARD
TZOFFSETFROM:-0700
TZOFFSETTO:-0800
TZNAME:PST
DTSTART:20241103T090000
END:STANDARD
BEGIN:DAYLIGHT
TZOFFSETFROM:-0800
TZOFFSETTO:-0700
TZNAME:PDT
DTSTART:20250309T100000
END:DAYLIGHT
BEGIN:STANDARD
TZOFFSETFROM:-0700
TZOFFSETTO:-0800
TZNAME:PST
DTSTART:20251102T090000
END:STANDARD
BEGIN:DAYLIGHT
TZOFFSETFROM:-0800
TZOFFSETTO:-0700
TZNAME:PDT
DTSTART:20260308T100000
END:DAYLIGHT
BEGIN:STANDARD
TZOFFSETFROM:-0700
TZOFFSETTO:-0800
TZNAME:PST
DTSTART:20261101T090000
END:STANDARD
END:VTIMEZONE
BEGIN:VEVENT
DTSTART;TZID=America/Los_Angeles:20250308T100000
DTEND;TZID=America/Los_Angeles:20250309T170000
DTSTAMP:20260420T202011
CREATED:20250304T001014Z
LAST-MODIFIED:20250324T164631Z
UID:13151-1741428000-1741539600@www.trifectacollectibles.com
SUMMARY:East Bay Card Show (2 Day Show)
DESCRIPTION:Eastbay Sports Card & Collectors Show (2 day show)\nMarch 8th and 9th\, 2025\nWhere: Concord Plaza Hotel\, 45 John Glenn Dr. Concord\nShow Hours:\nSaturday:\nDoors Open for VIP TIX at 10:00am – 11:00am\nGeneral Admission 11:00am – 5:00pm; Afternoon Saver Ticket starts at 2:00pm\nSunday: General Admission All Day 10:00am – 5:00pm \nCost:\nVIP – $30.00 (10:00am to 11:00am Saturday ONLY)\nGeneral Admission – $15.00\nAfternoon Saver (after 2:00pm) – $10.00\nKids 12 and under: FREE \n125+ Vendors & Free Parking \nTo purchase VIP & Admission Tickets\, go to www.eastbaycardshow.com \nPromoter: 10th Inning Productions; Email: info@eastbaycardshow.com \nStay in the know and follow our social media accounts below:\nInstagram: @trifecta_sports\nFacebook: Trifecta Sports Collectibles \n* Trifecta Sports Collectibles DOES NOT set the date of the event or responsible for any cancellations.  Trifecta Sports Collectibles is not affiliated with the event or any companies which put the event together.  Trifecta Sports Collectibles ONLY helps promote the event for the benefit of the members that follow us. \n\nFor more information or if you have questions about the event\, contact the Promoters directly. \n \n 
URL:https://www.trifectacollectibles.com/event/east-bay-card-show-2-day-show/
LOCATION:Concord  Plaza Hotel\, 45 John Glenn Dr.\, Concord\, CA\, 94520\, United States
CATEGORIES:All Events,Past Events,Sports Card/Memorabilia Shows
END:VEVENT
END:VCALENDAR