BEGIN:VCALENDAR
VERSION:2.0
PRODID:-//Trifecta Sports Collectibles - ECPv6.15.20//NONSGML v1.0//EN
CALSCALE:GREGORIAN
METHOD:PUBLISH
X-ORIGINAL-URL:https://www.trifectacollectibles.com
X-WR-CALDESC:Events for Trifecta Sports Collectibles
REFRESH-INTERVAL;VALUE=DURATION:PT1H
X-Robots-Tag:noindex
X-PUBLISHED-TTL:PT1H
BEGIN:VTIMEZONE
TZID:America/Los_Angeles
BEGIN:DAYLIGHT
TZOFFSETFROM:-0800
TZOFFSETTO:-0700
TZNAME:PDT
DTSTART:20230312T100000
END:DAYLIGHT
BEGIN:STANDARD
TZOFFSETFROM:-0700
TZOFFSETTO:-0800
TZNAME:PST
DTSTART:20231105T090000
END:STANDARD
BEGIN:DAYLIGHT
TZOFFSETFROM:-0800
TZOFFSETTO:-0700
TZNAME:PDT
DTSTART:20240310T100000
END:DAYLIGHT
BEGIN:STANDARD
TZOFFSETFROM:-0700
TZOFFSETTO:-0800
TZNAME:PST
DTSTART:20241103T090000
END:STANDARD
BEGIN:DAYLIGHT
TZOFFSETFROM:-0800
TZOFFSETTO:-0700
TZNAME:PDT
DTSTART:20250309T100000
END:DAYLIGHT
BEGIN:STANDARD
TZOFFSETFROM:-0700
TZOFFSETTO:-0800
TZNAME:PST
DTSTART:20251102T090000
END:STANDARD
END:VTIMEZONE
BEGIN:VEVENT
DTSTART;TZID=America/Los_Angeles:20241116T100000
DTEND;TZID=America/Los_Angeles:20241117T170000
DTSTAMP:20260421T030928
CREATED:20240109T233355Z
LAST-MODIFIED:20241118T011658Z
UID:10133-1731751200-1731862800@www.trifectacollectibles.com
SUMMARY:East Bay Sports Card & Collectors Show featuring Jose Canseco
DESCRIPTION:Jose Canseco Autograph Event at the Eastbay Sports Card & Collectors Show\nAutograph Pricing for Jose Canseco:\n$39 – Any Item\n$10 – Inscriptions (3 words max per inscription)\n1:00pm – 3:00pm – Appearing November 16th ONLY (Saturday) \nWhere: Hyatt Regency – SF Airport\, 1333 Old Bayshore Highway\, Burlingame\, Ca\nShow Hours: Opens 10:00am – 5:00pm Both days\n200+ Vendors & Free Parking\nPromoter: 10th Inning Productions; Email: info@eastbaycardshow.com \nStay in the know and follow our social media accounts below:\nInstagram: @trifecta_sports\nFacebook: Trifecta Sports Collectibles \n* Trifecta Sports Collectibles DOES NOT set the date of the event or responsible for any cancellations.  Trifecta Sports Collectibles is not affiliated with the event or any companies which put the event together.  Trifecta Sports Collectibles ONLY helps promote the event for the benefit of the members that follow us. \n\nFor more information or if you have questions about the event\, contact the Promoters directly. \n \n 
URL:https://www.trifectacollectibles.com/event/east-bay-sports-card-and-collectors-show/
LOCATION:Hyatt Regency\, 1333 Old Bayshore Hwy\, Burlingame\, Ca\, United States
CATEGORIES:All Events,Autograph Signings,Past Events,Sports Card/Memorabilia Shows
END:VEVENT
END:VCALENDAR