BEGIN:VCALENDAR
VERSION:2.0
PRODID:-//Trifecta Sports Collectibles - ECPv6.15.20//NONSGML v1.0//EN
CALSCALE:GREGORIAN
METHOD:PUBLISH
X-WR-CALNAME:Trifecta Sports Collectibles
X-ORIGINAL-URL:https://www.trifectacollectibles.com
X-WR-CALDESC:Events for Trifecta Sports Collectibles
REFRESH-INTERVAL;VALUE=DURATION:PT1H
X-Robots-Tag:noindex
X-PUBLISHED-TTL:PT1H
BEGIN:VTIMEZONE
TZID:America/Los_Angeles
BEGIN:DAYLIGHT
TZOFFSETFROM:-0800
TZOFFSETTO:-0700
TZNAME:PDT
DTSTART:20230312T100000
END:DAYLIGHT
BEGIN:STANDARD
TZOFFSETFROM:-0700
TZOFFSETTO:-0800
TZNAME:PST
DTSTART:20231105T090000
END:STANDARD
BEGIN:DAYLIGHT
TZOFFSETFROM:-0800
TZOFFSETTO:-0700
TZNAME:PDT
DTSTART:20240310T100000
END:DAYLIGHT
BEGIN:STANDARD
TZOFFSETFROM:-0700
TZOFFSETTO:-0800
TZNAME:PST
DTSTART:20241103T090000
END:STANDARD
BEGIN:DAYLIGHT
TZOFFSETFROM:-0800
TZOFFSETTO:-0700
TZNAME:PDT
DTSTART:20250309T100000
END:DAYLIGHT
BEGIN:STANDARD
TZOFFSETFROM:-0700
TZOFFSETTO:-0800
TZNAME:PST
DTSTART:20251102T090000
END:STANDARD
END:VTIMEZONE
BEGIN:VEVENT
DTSTART;TZID=America/Los_Angeles:20241019T083000
DTEND;TZID=America/Los_Angeles:20241020T170000
DTSTAMP:20260421T044033
CREATED:20240923T182413Z
LAST-MODIFIED:20241118T011817Z
UID:12340-1729326600-1729443600@www.trifectacollectibles.com
SUMMARY:World of Sports and Empire Sports Presents thee Silicon Valley Show
DESCRIPTION:Empire Sports & World of Sports Presents Monthly Silicon Valley Card & Collectible Show\nWhen: October 19th – 20th\, 2024 (Mall hours) \nWhere:  Westgate Center – 1600 Saratoga Ave. San Jose\,  Ca \nCome buy/sell/trade your cards from a variety of vendors. \nIf you are interested in getting a table for this show\, please contact the promoter directly. Contact information is on the photo/flyer. \n** Trifecta Sports Collectibles DOES NOT set the date of the event or responsible for any cancellations. Trifecta Sports Collectibles is not affiliated with the event or any companies which put the event together. Trifecta Sports Collectibles ONLY helps promote the event for the benefit of the members that follow us.
URL:https://www.trifectacollectibles.com/event/world-of-sports-and-empire-sports-presents-thee-silicon-valley-show/
LOCATION:Westgate Mall\, 1600 Saratoga Ave #23E\, San Jose\, CA\, 95129\, United States
CATEGORIES:All Events,Past Events,Sports Card/Memorabilia Shows
END:VEVENT
BEGIN:VEVENT
DTSTART;TZID=America/Los_Angeles:20241020T080000
DTEND;TZID=America/Los_Angeles:20241020T170000
DTSTAMP:20260421T044033
CREATED:20241020T091621Z
LAST-MODIFIED:20241118T011752Z
UID:12521-1729411200-1729443600@www.trifectacollectibles.com
SUMMARY:The Santa Clara Show featuring Autograph Guest Jason Williams
DESCRIPTION:The Card Attic presents the Santa Clara Show featuring Autograph Guest Jason Williams \nAutograph Pricing for Jason Williams: 1:00pm – 3:00pm November 9th (Saturday ONLY)\n$40 – Cards with JSA Coa included\n$55 – Everything else besides cards. JSA Coa Included\n$10 – Inscriptions (3 words max per inscription) \nTaking orders now!  To place an order\, please click and fill out the Mail-In Order Form \nPrior to sending payment over\, I will send a breakdown of the cost based on the item(s) you are sending in. \nCustomer is responsible for ALL shipping cost. Please include a return label or I will provide cost to you based on the item getting signed. Oversized items may have additional shipping fees. \nIf you don’t include a Return Shipping Label\, please include the following cost to your total \n\nFlats\, Mini Helmets\, Jerseys\, Baseballs\, Funko POP! – $8.00 (if located in California) $12.00 (if located outside of California) –\nFootballs\, Full Size Basketballs\, Full Size Helmets\, Misc Equipment – $15.00 (if located in California) $20.00 (if located outside of California)\nOR…you can include a return label with your original package.\nWe ship to USA Addresses ONLY. We DO NOT SHIP Internationally.\n\nLabeling:\nYour item(s) need to be labeled EXACTLY where you want it signed and which color/pen to use.  Use sticky notes or painters tape to label your items. \nSports Card Show Information:\nWhere: Santa Clara Convention Center – Exhibitor Hall “A”\nWhen: November 8-10\, 2024\nAdmission: $5.00\n250+ Vendors & Free Parking\nPromoter: The Card Attic\, thecardattic232@yahoo.com \nHelp us keep growing and share it\, tag people\, put on your story and let’s keep everyone in the know. Thank you for your support. \nFollow our social media accounts below.\nInstagram: @trifecta_sports\nFacebook: Trifecta Sports Collectibles\nWebsite: www.TrifectaCollectibles.com \nAny questions\, please email trifectacollectibles@gmail.com \n** Trifecta Sports Collectibles DOES NOT set the date of the event or responsible for any cancellations. Trifecta Sports Collectibles is not affiliated with the event or any companies which put the event together. Trifecta Sports Collectibles ONLY helps promote the event for the benefit of the members that follow us.
URL:https://www.trifectacollectibles.com/event/the-santa-clara-show-featuring-autograph-guest-jason-williams/
LOCATION:CA
CATEGORIES:All Events,Autograph Signings,Past Events,Sports Card/Memorabilia Shows
END:VEVENT
END:VCALENDAR