BEGIN:VCALENDAR
VERSION:2.0
PRODID:-//Trifecta Sports Collectibles - ECPv6.15.20//NONSGML v1.0//EN
CALSCALE:GREGORIAN
METHOD:PUBLISH
X-ORIGINAL-URL:https://www.trifectacollectibles.com
X-WR-CALDESC:Events for Trifecta Sports Collectibles
REFRESH-INTERVAL;VALUE=DURATION:PT1H
X-Robots-Tag:noindex
X-PUBLISHED-TTL:PT1H
BEGIN:VTIMEZONE
TZID:America/Los_Angeles
BEGIN:DAYLIGHT
TZOFFSETFROM:-0800
TZOFFSETTO:-0700
TZNAME:PDT
DTSTART:20230312T100000
END:DAYLIGHT
BEGIN:STANDARD
TZOFFSETFROM:-0700
TZOFFSETTO:-0800
TZNAME:PST
DTSTART:20231105T090000
END:STANDARD
BEGIN:DAYLIGHT
TZOFFSETFROM:-0800
TZOFFSETTO:-0700
TZNAME:PDT
DTSTART:20240310T100000
END:DAYLIGHT
BEGIN:STANDARD
TZOFFSETFROM:-0700
TZOFFSETTO:-0800
TZNAME:PST
DTSTART:20241103T090000
END:STANDARD
BEGIN:DAYLIGHT
TZOFFSETFROM:-0800
TZOFFSETTO:-0700
TZNAME:PDT
DTSTART:20250309T100000
END:DAYLIGHT
BEGIN:STANDARD
TZOFFSETFROM:-0700
TZOFFSETTO:-0800
TZNAME:PST
DTSTART:20251102T090000
END:STANDARD
END:VTIMEZONE
BEGIN:VEVENT
DTSTART;VALUE=DATE:20240601
DTEND;VALUE=DATE:20240603
DTSTAMP:20260421T112617
CREATED:20240318T180925Z
LAST-MODIFIED:20240603T165830Z
UID:11020-1717200000-1717372799@www.trifectacollectibles.com
SUMMARY:GT Sports Marketing June 2024 Summer Show
DESCRIPTION:GT SPORTS MARKETING SANTA CLARA JUNE SHOW\nJune 1st and June 2nd\, 2024 \nSanta Clara Convention Center\n5001 Great America Parkway\nSanta Clara\, Ca 95054 \nSaturday June 1st\, 9am – 5pm ($10 admission)\nSunday Julne 2nd 10am – 4pm ($10 admission) \nThis will be a PUBLIC SIGNING\, so come see them and get their autograph IN PERSON. To purchase tickets\, go to GT Sports Marketing Summer 2024 Show \n\nUnfortunately\, I WILL NOT be taking any mail-ins for this event.  Sorry for the inconvenience.  \nAs of 5/21/24…the players that will be in attendance are.. \nSaturday 6/1/24\nJung Hoo Lee\nFred Warner\nJiAyir Brown\nFrank Gore\nNick Bosa\nKyle Juszczuk\nJohn Taylor \nSunday 6/2/24\nTim Hardaway\nMitch Richmond\nChris Mullin\nTim Brown\nJulius “Dr.J” Erving\nBo Jackson\nAllen Iverson\nRickey Henderson\nFred Biletnikoff \nPlease checkout GT Sports Marketing Summer 2024 Show for the latest updated show lineup and/or to purchase autograph tickets. \n\nFor more information on this event or any other upcoming autograph shows\, stay in the know and follow our social media accounts below. \nInstagram: @trifecta_sports\nFacebook: Trifecta Sports Collectibles\nWebsite: www.TrifectaCollectibles.com \nThank you for your support and business! \n** Trifecta Sports Collectibles DOES NOT set the date of the event\, any pricing or responsible for any cancellations. Trifecta Sports Collectibles is not affiliated with the event or any companies which put the event together. Trifecta Sports Collectibles ONLY helps promote the event for the benefit of the members that follow us. \n 
URL:https://www.trifectacollectibles.com/event/gt-sports-marketing-june-2024-summer-show/
LOCATION:Santa Clara Convention Center\, 5001 Great America Parkway\, Santa Clara\, Ca\, 95054
CATEGORIES:All Events,Autograph Signings,Past Events,Sports Card/Memorabilia Shows
END:VEVENT
END:VCALENDAR