BEGIN:VCALENDAR
VERSION:2.0
PRODID:-//Trifecta Sports Collectibles - ECPv6.15.20//NONSGML v1.0//EN
CALSCALE:GREGORIAN
METHOD:PUBLISH
X-ORIGINAL-URL:https://www.trifectacollectibles.com
X-WR-CALDESC:Events for Trifecta Sports Collectibles
REFRESH-INTERVAL;VALUE=DURATION:PT1H
X-Robots-Tag:noindex
X-PUBLISHED-TTL:PT1H
BEGIN:VTIMEZONE
TZID:America/Los_Angeles
BEGIN:DAYLIGHT
TZOFFSETFROM:-0800
TZOFFSETTO:-0700
TZNAME:PDT
DTSTART:20230312T100000
END:DAYLIGHT
BEGIN:STANDARD
TZOFFSETFROM:-0700
TZOFFSETTO:-0800
TZNAME:PST
DTSTART:20231105T090000
END:STANDARD
BEGIN:DAYLIGHT
TZOFFSETFROM:-0800
TZOFFSETTO:-0700
TZNAME:PDT
DTSTART:20240310T100000
END:DAYLIGHT
BEGIN:STANDARD
TZOFFSETFROM:-0700
TZOFFSETTO:-0800
TZNAME:PST
DTSTART:20241103T090000
END:STANDARD
BEGIN:DAYLIGHT
TZOFFSETFROM:-0800
TZOFFSETTO:-0700
TZNAME:PDT
DTSTART:20250309T100000
END:DAYLIGHT
BEGIN:STANDARD
TZOFFSETFROM:-0700
TZOFFSETTO:-0800
TZNAME:PST
DTSTART:20251102T090000
END:STANDARD
END:VTIMEZONE
BEGIN:VEVENT
DTSTART;VALUE=DATE:20240517
DTEND;VALUE=DATE:20240520
DTSTAMP:20260421T130121
CREATED:20240109T225742Z
LAST-MODIFIED:20240603T165838Z
UID:10125-1715904000-1716163199@www.trifectacollectibles.com
SUMMARY:True Sportscards Presents: The Sacramento Autograph & Sportscard Show (Public Autograph Event)
DESCRIPTION:True Sportscards Presents: The Sacramento Autograph and Sports Card Expo.\nMay 17th – May 19th @TheGrounds\, Rocklin\, Ca \n\n3-Day Event\n80+ Dealers/Vendors\n20+ Autograph Guest\n\nThis is a PUBLIC Autograph Event. You will be able to get your items signed IN PERSON by the athletes attending this show. Go to www.SacSportsCardExpo.com to purchase your autograph tickets in advance or you can buy them the day of the show. \n\nKevin Mitchell – Friday May 17th\, 5pm. – 6pm\n$20.00 – Any Item\n$10.00 – Inscription\n$20.00 – Photo Ops (includes printed photo) \n\n\n\n\nMay 18th\, Saturday\, 9:00am – 6:00pm\n\n\nMalik Monk – Saturday May 18th\, 3:00pm – 4:00pm\n$69.00 – Standard Tickets (Flat Items up to 8×11\, Cards\, Photos\, Magazines)\n$89.00 – Premium Tickets (Flats Larger thhan 8×11\, Jerseys\, Jersey #’s\, Basketballs\, Shoes\, Original Art.  Also any item that already has signatures on it)\n$29.00 – Inscriptions (Up to 4 words max per inscription)\n$69.00 – Photo Ops (includes printed photo) \nRickey Henderson – Saturday May 18th\, 12:00pm – 1:00pm\n$150.00 – Standard Tickets (Flat Items up to 11×17\, Cards\, Magazines & Baseballs)\n$220.00 – Premium Tickets (Flats larger than 11×17)\n$295.00 – Equipment: Jerseys\, Jersey #’s\, Equipment\, Bats\, Original Art\, Shoes\, or any other item that has signatures on it.\n$90.00 – Inscriptions (Up to 4 words max per inscription)\n$150.00 – Photo Ops (includes printed photo)\n* Rickey will not sign bases\, his full legal name or recent book about Rickey \nDennis Rodman – Saturday May 18th\, 2:00pm – 3:00pm\n$99.00 – Standard Tickets (Flat Items up to 8×11\, Cards\, Photos\, Magazines)\n$129.00 – Premium Tickets (Flats Larger thhan 8×11\, Jerseys\, Jersey #’s\, Basketballs\, Shoes\, Original Art.  Also any item that already has signatures on it)\n$59.00 – Inscriptions (Up to 4 words max per inscription)\n$99.00 – Photo Ops (includes printed photo) \nRandy Johnson – Saturday May 18th\, 1:00pm – 2:00pm \n$200.00 – Standard Tickets (Flat Items up to 8×11\, Cards\, Magazines & Baseballs)\n$250.00 – Premium Tickets (All other items)\n$75.00 – Inscriptions (Up to 4 words max per inscription)\n$200.00 – Photo Ops (includes printed photo) \nFrank Thomas – Saturday May 18th\, 10:00am – 11:00am\n$100.00 – Standard Tickets (Flat Items up to 8×11\, Cards\, Magazines & Baseballs)\n$125.00 – Premium Tickets (All other items)\n$200.00 – Any 500HR Item or Game Used Item\n$50.00 – Inscriptions (Up to 4 words max per inscription)\n$100.00 – Photo Ops (includes printed photo) \nVladimir Guerrero Sr. – Saturday May 18th\, 11:00am –  12:00pm\n$109.00 – Standard Tickets (Flat Items up to 8×11\, Cards\, Magazines & Baseballs)\n$139.00 – Premium Tickets (Flats larger than 8×11\, Jerseys\, Jersey #’s\, Equipment\, Bats\, Original Art\, Shoes\, or any other item that has signatures on it.\n$49.00 – Inscriptions (Up to 4 words max per inscription)\n$109.00 – Photo Ops (includes printed photo) \nDave Stewart – Saturday May 18th\, 2:00pm – 3:00pm\n$50.00 – Any Item\n$20.00 – Inscription\n$50.00 – Photo Ops (includes printed photo) \nJohnny Manziel – Saturday May 18th\, 1:00pm – 2:00pm\n$50.00 – Any Item\n$15.00 – Inscription\n$50.00 – Photo Ops (includes printed photo) \n\n\n\n\n\n\n\nMay 19th\, Sunday\, 9:00am – 5:00pm\nJohn Taylor – Saturday May 19th\, 12:00pm – 1:00pm \nPLEASE NOTE – Each 3 day weekend show pass purchased includes ONE FREE John Taylor in person autograph! This is one autograph on your item. Inscriptions can be purchased for $10 per. You will be provided with your John Taylor autograph ticket in your welcome bag when you arrive at the event during check in.\n$29.00 – Standard Tickets (Cards\, Flats up to 8×11 & Mini Helmets)\n$39.00 – Premium Tickets (Flats larger than 8×11\, Jerseys\, Jersey #’s\, Equipment\, Footballs\, Bobbleheads\, Original Art\, Shoes or any item signed by another player)\n$10.00 – Additional Inscriptions (up to 3 words per inscription) \n\n\n\n\n\n\n\n\nTom Rathman – Saturday May 19th\, 12:30pm – 1:30pm\n$39.00 – Standard Tickets (Cards\, Flats up to 8×11 & Mini Helmets)\n$49.00 – Premium Tickets (Flats larger than 8×11\, Jerseys\, Jersey #’s\, Equipment\, Footballs\, Bobbleheads\, Original Art\, Shoes or any item signed by another player)\n$15.00 – Additional Inscriptions (up to 3 words per inscription) \nMichael Cooper – Sunday May 19th\, 1:00pm – 2:00pm\n$59.00 – Standard Tickets (Flat Items up to 8×10\, Cards\, Photos\, Magazines) *Includes HOF 24 inscription\n$79.00 – Premium Tickets (Flats Larger than 8×10\, Jerseys\, Jersey #’s\, Basketballs\, Shoes\, Original Art\, Items larger than 16×20)(Also any item that already has signatures on it)\n$29.00 – HOF 24 Inscription included\, Any additional Inscriptions (Up to 3 words max per inscription)\n$59.00 – Photo Ops (includes printed photo) \nGo to www.SacSportsCardExpo.com for more information and to purchase tickets \n\nStay in the know and follow our social media accounts below:\nInstagram: @trifecta_sports\nFacebook: Trifecta Sports Collectibles\nWebsite: www.TrifectaCollectibles.com \n** Trifecta Sports Collectibles DOES NOT set the date of the event or responsible for any cancellations. Trifecta Sports Collectibles is not affiliated with the event or any companies which put the event together. Trifecta Sports Collectibles ONLY helps promote the event for the benefit of the members that follow us.  ** \nEmail trifectacollectibles@gmail.com if you have any questions. Will try to answer them to the best of my ability. \n      .  .    \n 
URL:https://www.trifectacollectibles.com/event/true-sportscards-presents-the-sacramento-autograph-sportscard-show-public-autograph-event/
LOCATION:The Grounds\, 700 Event Center Drive\, Roseville\, Ca\, 95678
CATEGORIES:All Events,Autograph Signings,Past Events,Sports Card/Memorabilia Shows
END:VEVENT
END:VCALENDAR