BEGIN:VCALENDAR
VERSION:2.0
PRODID:-//Trifecta Sports Collectibles - ECPv6.15.20//NONSGML v1.0//EN
CALSCALE:GREGORIAN
METHOD:PUBLISH
X-ORIGINAL-URL:https://www.trifectacollectibles.com
X-WR-CALDESC:Events for Trifecta Sports Collectibles
REFRESH-INTERVAL;VALUE=DURATION:PT1H
X-Robots-Tag:noindex
X-PUBLISHED-TTL:PT1H
BEGIN:VTIMEZONE
TZID:America/Los_Angeles
BEGIN:DAYLIGHT
TZOFFSETFROM:-0800
TZOFFSETTO:-0700
TZNAME:PDT
DTSTART:20230312T100000
END:DAYLIGHT
BEGIN:STANDARD
TZOFFSETFROM:-0700
TZOFFSETTO:-0800
TZNAME:PST
DTSTART:20231105T090000
END:STANDARD
BEGIN:DAYLIGHT
TZOFFSETFROM:-0800
TZOFFSETTO:-0700
TZNAME:PDT
DTSTART:20240310T100000
END:DAYLIGHT
BEGIN:STANDARD
TZOFFSETFROM:-0700
TZOFFSETTO:-0800
TZNAME:PST
DTSTART:20241103T090000
END:STANDARD
BEGIN:DAYLIGHT
TZOFFSETFROM:-0800
TZOFFSETTO:-0700
TZNAME:PDT
DTSTART:20250309T100000
END:DAYLIGHT
BEGIN:STANDARD
TZOFFSETFROM:-0700
TZOFFSETTO:-0800
TZNAME:PST
DTSTART:20251102T090000
END:STANDARD
END:VTIMEZONE
BEGIN:VEVENT
DTSTART;TZID=America/Los_Angeles:20240113T170000
DTEND;TZID=America/Los_Angeles:20240113T190000
DTSTAMP:20260421T192339
CREATED:20240109T214212Z
LAST-MODIFIED:20240229T081626Z
UID:10123-1705165200-1705172400@www.trifectacollectibles.com
SUMMARY:Dre Greenlaw\, Ambry Thomas and Charvarius Ward Autograph Event (Public Signing)
DESCRIPTION:Empire Sports & World of Sports Memorabilia Presents an In Person Meet and Greet with Dre Greenlaw\, Ambry Thomas and Charvarius Ward. \nThis is a PUBLIC Autograph Event so you will able to get your items signed IN PERSON on January 13th\, 2024 \nBUT… \nIf you can’t attend the event\, Trifecta Sports Collectibles\, is an APPROVED Mail-In Partner to help you get the autograph(s) via our Mail-In Program. You would mail your items to me and will get your items signed for you. \nAutograph Pricing on YOUR items: \nDre Greenlaw – Signing from 5pm to 6pm\nAny Item:$79\nPhoto Ops: $79\nInscription: $49 \nAmbry Thomas – Signing from 6pm to 7pm\n$45 Any Item\n$20 Photo Op \nCharvarius Ward – Signing from 6pm to 7pm\n$59 Any Item\n$59 Photo Op\n$29 Inscription \nLocation of Autograph Event:\nWORLD of SPORTS MEMORABILIA\nInside Westgate Mall\nSilicon Valley Trade Card Show \nThere will be Photos\, Mini Helmets\, Jerseys\, Footballs for Sale the day of the show. \nMail In Orders must be placed via email ONLY. Thank you for your cooperation.\nEmail: trifectacollectibles@gmail.com \nAlways stay in the know and follow our social media accounts below\, bookmark the website or send us an email if you have any questions. \nInstagram: @trifecta_sports\nFacebook: Trifecta Sports Collectibles\nWebsite: www.TrifectaCollectibles.com\nEmail: trifectacollectibles@gmail.com \nHelp us keep growing this page and share it\, tag people\, put on your story and let’s keep everyone in the know. Thank you for your support. 👍 \n** Trifecta Sports Collectibles DOES NOT set the date of the event or responsible for any cancellations. Trifecta Sports Collectibles is not affiliated with the event or any companies which put the event together. Trifecta Sports Collectibles ONLY helps promote the event for the benefit of the members that follow us. \n#ambrythomas20 #ambrythomas #dregreenlaw #charvariusward #49ers #sf49ers #ninerempire #niners #ninersfaithful #ninergang #49erempire #49ersnation #49ersfaithful #bangbangninergang #bayareaautographevents #eliminatefomo #alwaysbeintheknow
URL:https://www.trifectacollectibles.com/event/dre-greenlaw-ambry-thomas-and-charvarius-ward-autograph-event-public-signing/
LOCATION:Westgate Mall\, 1600 Saratoga Ave #23E\, San Jose\, CA\, 95129\, United States
CATEGORIES:All Events,Autograph Signings,Past Events,Sports Card/Memorabilia Shows
END:VEVENT
END:VCALENDAR