BEGIN:VCALENDAR
VERSION:2.0
PRODID:-//Trifecta Sports Collectibles - ECPv6.15.20//NONSGML v1.0//EN
CALSCALE:GREGORIAN
METHOD:PUBLISH
X-WR-CALNAME:Trifecta Sports Collectibles
X-ORIGINAL-URL:https://www.trifectacollectibles.com
X-WR-CALDESC:Events for Trifecta Sports Collectibles
REFRESH-INTERVAL;VALUE=DURATION:PT1H
X-Robots-Tag:noindex
X-PUBLISHED-TTL:PT1H
BEGIN:VTIMEZONE
TZID:America/Los_Angeles
BEGIN:DAYLIGHT
TZOFFSETFROM:-0800
TZOFFSETTO:-0700
TZNAME:PDT
DTSTART:20220313T100000
END:DAYLIGHT
BEGIN:STANDARD
TZOFFSETFROM:-0700
TZOFFSETTO:-0800
TZNAME:PST
DTSTART:20221106T090000
END:STANDARD
BEGIN:DAYLIGHT
TZOFFSETFROM:-0800
TZOFFSETTO:-0700
TZNAME:PDT
DTSTART:20230312T100000
END:DAYLIGHT
BEGIN:STANDARD
TZOFFSETFROM:-0700
TZOFFSETTO:-0800
TZNAME:PST
DTSTART:20231105T090000
END:STANDARD
BEGIN:DAYLIGHT
TZOFFSETFROM:-0800
TZOFFSETTO:-0700
TZNAME:PDT
DTSTART:20240310T100000
END:DAYLIGHT
BEGIN:STANDARD
TZOFFSETFROM:-0700
TZOFFSETTO:-0800
TZNAME:PST
DTSTART:20241103T090000
END:STANDARD
END:VTIMEZONE
BEGIN:VEVENT
DTSTART;TZID=America/Los_Angeles:20230708T100000
DTEND;TZID=America/Los_Angeles:20230709T170000
DTSTAMP:20260422T051042
CREATED:20230614T213641Z
LAST-MODIFIED:20240109T232759Z
UID:8660-1688810400-1688922000@www.trifectacollectibles.com
SUMMARY:Pablo Sandoval & Joe Staley Autograph Event @ the SF Card Show (Public Signing)
DESCRIPTION:The SF Card Show Presents a Sports Card & Collectible Show featuring Autograph Guest Joe Staley & Pablo Sandoval \nShow Hours:\nSaturday – July 8th – 10am to 5pm\nSunday – July 9th – 10am to 4pm \nLocation: South San Francisco Conference Center\, Ca \n$10.00 admission; Kids under 12 are. FREE \nAutograph Guest: Pablo Sandoval\nSaturday July 8th from 1:00pm – 2:30pm \nPricing: \n$40.00 – Cards.\n$65.00 – Baseballs & Flats up to 16×20\n$75.00 – Jerseys\, Full Size Helmets\, Flats larger than 16×20\n$35.00 – Inscriptions\n$10 – Beckett Witness COA Sticker \nAutograph Guest: Joe Staley\nSaturday July 9th from 1:00pm \nPricing:\n\n$75.00 – Cards\, Flats\, Mini Helmets\,  Footballs & Flats up to 16×20\n$85.00 – Jerseys\, Full Size Helmets & Flats larger than 16×20\n$30 – Inscriptions\n\n$10 – Beckett Witness COA Sticker\nAll items must arrive to me no later than 7/3/23 \nThis is a PUBLIC Autograph Event so you will able to get your items signed IN PERSON. \nBUT… \nIf you can’t attend the event\, Trifecta Sports Collectibles\, is an APPROVED Mail-In Partner to help you get the autograph(s) via our Mail-In Program.  You would mail your items to me and will drop off your items to get signed at the show.  I WILL NOT be in attendance for this signing however; the people handling your items are very experienced. \n*They will do their best to get everything done to your specifications. \nFor more information on this event or any other upcoming autograph shows\, stay in the know and follow our social media accounts below.\nInstagram: @trifecta_sports\nFacebook: Trifecta Sports Collectibles\nWebsite: www.TrifectaCollectibles.com \nHelp us keep growing this page and share it\, tag people\, put on your story and let’s keep everyone in the know. Thank you for your support. 👍 \n* No refunds/credit will be given if a mistake happens (wrong pen\, incorrect placement\, smears or etc). Sometimes it is out of our control and is in the players hands. We will try our best to fulfill each request\, but unfortunately sometimes a mistake may happen. \n** Trifecta Sports Collectibles DOES NOT set the date of the event or responsible for any cancellations. Trifecta Sports Collectibles is not affiliated with the event or any companies which put the event together. Trifecta Sports Collectibles ONLY helps promote the event for the benefit of the members that follow us. \n#pablosandoval #joestaley #eliminateFOMO #alwaysbeintheknow #whodoyoucollect #sportscards #pokemoncards #tcg #autographs #memorabilia #panini #publicsigning #supportyourlocalcardshow #supportyourlocalcardshop \n.  \n 
URL:https://www.trifectacollectibles.com/event/pablo-sandoval-joe-staley-autograph-event-the-sf-card-show-public-signing/
LOCATION:South San Francisco Conference Center\, 255 South Airport Blvd\, South San Francisco\, Ca\, 94080
CATEGORIES:All Events,Autograph Signings,Past Events,Sports Card/Memorabilia Shows
END:VEVENT
END:VCALENDAR