BEGIN:VCALENDAR
VERSION:2.0
PRODID:-//Trifecta Sports Collectibles - ECPv6.15.20//NONSGML v1.0//EN
CALSCALE:GREGORIAN
METHOD:PUBLISH
X-ORIGINAL-URL:https://www.trifectacollectibles.com
X-WR-CALDESC:Events for Trifecta Sports Collectibles
REFRESH-INTERVAL;VALUE=DURATION:PT1H
X-Robots-Tag:noindex
X-PUBLISHED-TTL:PT1H
BEGIN:VTIMEZONE
TZID:America/Los_Angeles
BEGIN:DAYLIGHT
TZOFFSETFROM:-0800
TZOFFSETTO:-0700
TZNAME:PDT
DTSTART:20220313T100000
END:DAYLIGHT
BEGIN:STANDARD
TZOFFSETFROM:-0700
TZOFFSETTO:-0800
TZNAME:PST
DTSTART:20221106T090000
END:STANDARD
BEGIN:DAYLIGHT
TZOFFSETFROM:-0800
TZOFFSETTO:-0700
TZNAME:PDT
DTSTART:20230312T100000
END:DAYLIGHT
BEGIN:STANDARD
TZOFFSETFROM:-0700
TZOFFSETTO:-0800
TZNAME:PST
DTSTART:20231105T090000
END:STANDARD
BEGIN:DAYLIGHT
TZOFFSETFROM:-0800
TZOFFSETTO:-0700
TZNAME:PDT
DTSTART:20240310T100000
END:DAYLIGHT
BEGIN:STANDARD
TZOFFSETFROM:-0700
TZOFFSETTO:-0800
TZNAME:PST
DTSTART:20241103T090000
END:STANDARD
END:VTIMEZONE
BEGIN:VEVENT
DTSTART;VALUE=DATE:20230610
DTEND;VALUE=DATE:20230612
DTSTAMP:20260422T065758
CREATED:20230509T090453Z
LAST-MODIFIED:20240109T232832Z
UID:8543-1686355200-1686527999@www.trifectacollectibles.com
SUMMARY:Javon Hargrave\, Quinones\, & Margaret Kerry aka "Tinkerbell" Autograph Event (Public Signing)
DESCRIPTION:Empire Sports and World of Sports Presents Javon Hargrave\, Quinones\, & Margaret Kerry aka “Tinkerbell” Autograph Event (Public Signing)\nThis will be a PUBLIC Signing Event on June 10th – 11th \nJosh Jacobs – June 11th @ 2:00pm. (POSTPONED)\n$125 Regular (photos\, mini helmets\, cards\, tickets\, Funko)\n$135 Premium (Jerseys\, F/S Helmets\, Footballs\, Equip)\n$35 Inscriptions (3 words max)\n$125 Photo Ops\n$10 – Beckett Witness COA \nJavon Hargrave – June 10th @ 6:00pm\n$79 Any Item\n$49 Inscriptions (3 words max)\n$30 Photo Ops\n$10 – Beckett Witness COA \nMargaret Kerry (Tinkerbell) –  June 10th @ 4:00pm\n$40 Any Item\n$10 – Beckett Witness COA \nThis will be a PUBLIC SIGNING\, so come see them and get their autographs in person. To purchase tickets\, contact the store directly at 408-286-2151 \nBUT… \nIf you can’t attend the event\, Trifecta Sports Collectibles\, is an APPROVED Mail-In Partner to help you get the autograph(s) via our Mail-In Program. **DEADLINE for mail-ins is 6/8/23 ** \nEmail me at trifectacollectibles@gmail.com for more information on how to mail-in your items in to get signed. DM me with any questions or send me an email. \nFor more information on this event or any other upcoming autograph shows\, stay in the know and follow our social media accounts below. \nOrders must be placed via email only. Thank you for your cooperation. \nHelp us keep growing and share it\, tag people\, put on your story and let’s keep everyone in the know. Thank you for your support. \nFollow our social media accounts below. \nInstagram: @trifecta_sports\nFacebook: Trifecta Sports Collectibles\nWebsite: www.TrifectaCollectibles.com \nAny questions\, please email trifectacollectibles@gmail.com \n** Trifecta Sports Collectibles DOES NOT set the date of the event or responsible for any cancellations. Trifecta Sports Collectibles is not affiliated with the event or any companies which put the event together. Trifecta Sports Collectibles ONLY helps promote the event for the benefit of the members that follow us. \n#joshjacobs #lasvegasraiders #lvraiders #raiders #raidernation #raidersfootball #raidersgame #blackhole #oaklandraiders #oaklandraidersfootball
URL:https://www.trifectacollectibles.com/event/josh-jacobs-autograph-event-public-signing/
LOCATION:Westgate Mall\, 1600 Saratoga Ave #23E\, San Jose\, CA\, 95129\, United States
CATEGORIES:All Events,Autograph Signings,Past Events,Sports Card/Memorabilia Shows
END:VEVENT
BEGIN:VEVENT
DTSTART;VALUE=DATE:20230610
DTEND;VALUE=DATE:20230612
DTSTAMP:20260422T065758
CREATED:20230525T084706Z
LAST-MODIFIED:20230614T224400Z
UID:8599-1686355200-1686527999@www.trifectacollectibles.com
SUMMARY:GT Sports Marketing Santa Clara SUMMER Show
DESCRIPTION:GT SPORTS MARKETING SANTA CLARA SUMMER SHOW\nJune 10th & June 11th\, 2023\nSanta Clara Convention Center\n5001 Great America Parkway\nSanta Clara\, Ca 95054 \nSaturday June 10th\, 2023 8:45am – 4:30pm ($10 admission)\nSunday June 11th\, 2023 10am – 4pm ($10 admission) \nThis will be a PUBLIC SIGNING\, so come see them and get their autograph in person. To purchase tickets\, go to https://www.showclix.com/event/santa-clara-summer-2023 \n\nI will be setting up at this event again\, however; I WILL BE TAKEN A VERY LIMITED amount of mail ins.  The exception is if I already have your items for players that were pushed to this show from the previous show.  Will still honor those items.  I apologize for this inconvenience. \nFor the items sent in\, a Trifecta Staff Member will run your item(s) through the line and take video/photos of your item getting signed.  I will not be doing it myself as I will be at the booths the majority of the time. \nSaturday June 10th\, Autograph Lineup: (Time/Date of player signings subject to change)\n\nJoey Bart – 9:15am\n$95.00 – Helmet / Jersey / Football\n$65.00 – Flat / Mini Helmet\n$50.00 – Inscription (Up to 3 words max)\n$65.00 – Photo Op \nWendell Tyler – 12:00pm\n$25.00 – Any Item\n$25.00 – Inscription (Up to 3 words max)\n$25.00 – Photo Op \nFred Warner – 1:00pm \n$75.00 – Helmet / Jersey / Football\n$65.00 – Flat / Mini Helmet\n$25.00 – Inscription (Up to 3 words max)\n$65.00 – Photo Op \nSam Darnold – 2:00pm\n$50.00 – Helmet / Jersey / Football\n$40.00 – Flat / Mini Helmet\n$25.00 – Inscription (Up to 3 words max)\n$40.00 – Photo Op \nBrandon Aiyuk – 2:00pm \n$75.00 – Helmet / Jersey / Football\n$65.00 – Flat / Mini Helmet\n$35.00 – Inscription (Up to 3 words max)\n$75.00 – Photo Op \nTim McDonald – 3:00pm \n$35.00 – Any Item\n$25.00 – Inscription (Up to 3 words max)\n$35.00 – Photo Op \nChristian McCaffrey – 3:00pm\n$150.00 – Helmet / Jersey / Football\n$125.00 – Flat / Mini Helmet\n$50.00 – Inscription (Up to 3 words max)\n$125.00 – Photo Op \nTom Rathman – 4:00pm\n$25.00 – Any Item\n$25.00 – Inscription (Up to 3 words max)\n$25.00 – Photo Op \nKyle Juszczyk – 3:30pm\n$65.00 – Helmet / Jersey / Football\n$50.00 – Flat / Mini Helmet\n$50.00 – Inscription (Up to 3 words max)\n$50.00 – Photo Op \nSunday June 11th\, Autograph Lineup: (Time of player signings subject to change)\nBo Jackson – 1:30pm\n$165.00 – Helmet / Jersey / Football\n$135.00 – Flat / Mini Helmet\n$135.00 – Inscription (Up to 3 words max)\n$135.00 – Photo Op \nRod Woodson – 12:00pm\n$75.00 – Helmet / Jersey / Football\n$65.00 – Flat / Mini Helmet\n$25.00 – Inscription (Up to 3 words max)\n$65.00 – Photo Op \nTim Hardaway – 12:00pm\n$75.00 – Helmet / Jersey / Football\n$60.00 – Flat / Mini Helmet\n$35.00 – Inscription (Up to 3 words max)\n$60.00 – Photo Op \nChris Mullin. – 12:15pm\n$95.00 – Helmet / Jersey / Football\n$75.00 – Flat / Mini Helmet\n$35.00 – Inscription (Up to 3 words max)\n$85.00 – Photo Op \nMitch Richmond – 12:30PM\n$75.00 – Helmet / Jersey / Football\n$60.00 – Flat / Mini Helmet\n$35.00 – Inscription (Up to 3 words max)\n$60.00 – Photo Op \nDrew Brees – 1:00pm\n$275.00 – Helmet / Jersey / Football\n$225.00 – Flat / Mini Helmet\n$135.00 – Inscription (Up to 3 words max)\n$195.00 – Photo Op \nTyree Wilson (Raiders Rookie) – 2:00pm\n$75.00 – Helmet / Jersey / Football\n$60.00 – Flat / Mini Helmet\n$35.00 – Inscription (Up to 3 words max)\n$60.00 – Photo Op \nNick Bosa – 2:00pm (currently paused)(Nick Bosa appearance is contingent of him being in the Bay Area this weekend.  If Bosa is not in the Bay Area June 10 or 11\, appearance will be rescheduled for a weekend in July. All Tickets for April 2023 will be honored) \n$135.00 – Helmet / Jersey / Football\n$100.00 – Flat / Mini Helmet\n$75.00 – Inscription (Up to 3 words max)\n$100.00 – Photo Op \nFor more information on this event or any other upcoming autograph shows\, stay in the know and follow our social media accounts below. \nInstagram: @trifecta_sports\nFacebook: Trifecta Sports Collectibles\nWebsite: www.TrifectaCollectibles.com \nHelp us keep growing this page and share it\, tag people\, put on your story and let’s keep everyone in the know. Thank you for your support. \n** Trifecta Sports Collectibles DOES NOT set the date of the event\, any pricing or responsible for any cancellations. Trifecta Sports Collectibles is not affiliated with the event or any companies which put the event together. Trifecta Sports Collectibles ONLY helps promote the event for the benefit of the members that follow us.
URL:https://www.trifectacollectibles.com/event/gt-sports-marketing-santa-clara-summer-show/
LOCATION:Santa Clara Convention Center\, 5001 Great America Parkway\, Santa Clara\, Ca\, 95054
CATEGORIES:All Events,Autograph Signings,Past Events,Sports Card/Memorabilia Shows
END:VEVENT
END:VCALENDAR