BEGIN:VCALENDAR
VERSION:2.0
PRODID:-//Trifecta Sports Collectibles - ECPv6.15.20//NONSGML v1.0//EN
CALSCALE:GREGORIAN
METHOD:PUBLISH
X-WR-CALNAME:Trifecta Sports Collectibles
X-ORIGINAL-URL:https://www.trifectacollectibles.com
X-WR-CALDESC:Events for Trifecta Sports Collectibles
REFRESH-INTERVAL;VALUE=DURATION:PT1H
X-Robots-Tag:noindex
X-PUBLISHED-TTL:PT1H
BEGIN:VTIMEZONE
TZID:America/Los_Angeles
BEGIN:DAYLIGHT
TZOFFSETFROM:-0800
TZOFFSETTO:-0700
TZNAME:PDT
DTSTART:20210314T100000
END:DAYLIGHT
BEGIN:STANDARD
TZOFFSETFROM:-0700
TZOFFSETTO:-0800
TZNAME:PST
DTSTART:20211107T090000
END:STANDARD
BEGIN:DAYLIGHT
TZOFFSETFROM:-0800
TZOFFSETTO:-0700
TZNAME:PDT
DTSTART:20220313T100000
END:DAYLIGHT
BEGIN:STANDARD
TZOFFSETFROM:-0700
TZOFFSETTO:-0800
TZNAME:PST
DTSTART:20221106T090000
END:STANDARD
BEGIN:DAYLIGHT
TZOFFSETFROM:-0800
TZOFFSETTO:-0700
TZNAME:PDT
DTSTART:20230312T100000
END:DAYLIGHT
BEGIN:STANDARD
TZOFFSETFROM:-0700
TZOFFSETTO:-0800
TZNAME:PST
DTSTART:20231105T090000
END:STANDARD
END:VTIMEZONE
BEGIN:VEVENT
DTSTART;TZID=America/Los_Angeles:20221106T130000
DTEND;TZID=America/Los_Angeles:20221106T170000
DTSTAMP:20260422T185210
CREATED:20221020T095204Z
LAST-MODIFIED:20221107T225144Z
UID:7729-1667739600-1667754000@www.trifectacollectibles.com
SUMMARY:World of Sports & Empire Sports Presents Talanoa Hufanga & Jeff Wilson Jr. (Public Signing)
DESCRIPTION:Empire Sports & World of Sports Presents Talanoa Hufanga & Jeff Wilson Jr.\nNovember 6th\, 2022\, Signing begins at 1:00pm\nThis will be a PUBLIC SIGNING\, so come see Hufanga and Jeff Wilson Jr and get their autograph IN PERSON.  Purchase your tickets at the store now or the day of the event.  Any questions regarding this event\, you can reach out to them directly at worldofsportsmem@yahoo.com or 408-286-2151 \nBUT… \nIf you can’t attend the event\, you still can send in your items directly to the World of Sports Memorabilia’s Store inside Westgate Mall in San Jose.  Contact them directly via email at worldofsportsmem@yahoo.com or 408-286-2151 for more information on how to send your items to them directly. \nTalanoa Hufanga Pricing: November 6th (Signing at 4pm)\n$89 – Any Item\n$40 – Inscriptions\n$69 – Photo Ops \nJeff Wilson Jr. Pricing: November 6th (Signing at 1pm)\n$49 – Any Item\n$20 – Inscriptions$39 – Photo Ops \nStay in the know and follow our social media accounts below:\nInstagram: @trifecta_sports\nFacebook: Trifecta Sports Collectibles \n** Trifecta Sports Collectibles DOES NOT set the date of the event or responsible for any cancellations. Trifecta Sports Collectibles is not affiliated with the event or any companies which put the event together. Trifecta Sports Collectibles ONLY helps promote the event for the benefit of the members that follow us. \n \n 
URL:https://www.trifectacollectibles.com/event/world-of-sports-empire-sports-presents-talanoa-hufanga-jeff-wilson-jr-public-signing/
LOCATION:CA
CATEGORIES:All Events,Autograph Signings,Past Events,Sports Card/Memorabilia Shows
END:VEVENT
END:VCALENDAR