BEGIN:VCALENDAR
VERSION:2.0
PRODID:-//Trifecta Sports Collectibles - ECPv6.15.20//NONSGML v1.0//EN
CALSCALE:GREGORIAN
METHOD:PUBLISH
X-ORIGINAL-URL:https://www.trifectacollectibles.com
X-WR-CALDESC:Events for Trifecta Sports Collectibles
REFRESH-INTERVAL;VALUE=DURATION:PT1H
X-Robots-Tag:noindex
X-PUBLISHED-TTL:PT1H
BEGIN:VTIMEZONE
TZID:America/Los_Angeles
BEGIN:DAYLIGHT
TZOFFSETFROM:-0800
TZOFFSETTO:-0700
TZNAME:PDT
DTSTART:20210314T100000
END:DAYLIGHT
BEGIN:STANDARD
TZOFFSETFROM:-0700
TZOFFSETTO:-0800
TZNAME:PST
DTSTART:20211107T090000
END:STANDARD
BEGIN:DAYLIGHT
TZOFFSETFROM:-0800
TZOFFSETTO:-0700
TZNAME:PDT
DTSTART:20220313T100000
END:DAYLIGHT
BEGIN:STANDARD
TZOFFSETFROM:-0700
TZOFFSETTO:-0800
TZNAME:PST
DTSTART:20221106T090000
END:STANDARD
BEGIN:DAYLIGHT
TZOFFSETFROM:-0800
TZOFFSETTO:-0700
TZNAME:PDT
DTSTART:20230312T100000
END:DAYLIGHT
BEGIN:STANDARD
TZOFFSETFROM:-0700
TZOFFSETTO:-0800
TZNAME:PST
DTSTART:20231105T090000
END:STANDARD
END:VTIMEZONE
BEGIN:VEVENT
DTSTART;VALUE=DATE:20220924
DTEND;VALUE=DATE:20220926
DTSTAMP:20260422T220842
CREATED:20220824T080838Z
LAST-MODIFIED:20221020T092310Z
UID:7544-1663977600-1664150399@www.trifectacollectibles.com
SUMMARY:The Card Attic & MJM Authentics Presents the Sports Card/Collectibles Show featuring Jason Richardson (Public Autograph Event)
DESCRIPTION:The Card Attic Presents…\n2-Day Sports Cards & Autograph Show featuring Golden State Warriors 2x Slam Dunk Champion JASON RICHARDSON\nSeptember 24th and 25th\, 2022\nAutograph Guest: Jason Richardson\, Signing beginning at 12:00pm (Signing courtesy of MJM Authentics)\n\n$40 Any item\n$40 Photo Op\n$25 Inscriptions (4 words max)\n\nDetails:  \n\n250+ Vendor Tables – Buy/Sell/Trade\nSports Cards / Memorabilia / Wax Boxes / Autographs / Pokemon and more!!! \n\nWhere: House of Hustle\, 3532 Arden Road\, Hayward\, Ca 94555 \nShow Hours: Saturday 9am – 6pm; Sunday 10am – 5pm \nGeneral Admission: $3.00 admission per day \nPromoter: Dion Noriega (707) 246-4473; Email: thecardattic232@yahoo.com \n* Trifecta Sports Collectibles DOES NOT set the date of the event or responsible for any cancellations.  Trifecta Sports Collectibles is not affiliated with the event or any companies which put the event together.  Trifecta Sports Collectibles ONLY helps promote the event for the benefit of the members that follow us. \n\nFor more information or if you have questions about the event\, contact the Promoters directly.
URL:https://www.trifectacollectibles.com/event/the-card-attic-mjm-authentics-presents-the-sports-card-collectibles-show-featuring-jason-richardson-public-autograph-event/
LOCATION:House of Hustle\, 3532 Arden Road\, Hayward\, Ca\, 94555
CATEGORIES:All Events,Autograph Signings,Past Events,Sports Card/Memorabilia Shows
END:VEVENT
END:VCALENDAR