BEGIN:VCALENDAR
VERSION:2.0
PRODID:-//Trifecta Sports Collectibles - ECPv6.15.20//NONSGML v1.0//EN
CALSCALE:GREGORIAN
METHOD:PUBLISH
X-ORIGINAL-URL:https://www.trifectacollectibles.com
X-WR-CALDESC:Events for Trifecta Sports Collectibles
REFRESH-INTERVAL;VALUE=DURATION:PT1H
X-Robots-Tag:noindex
X-PUBLISHED-TTL:PT1H
BEGIN:VTIMEZONE
TZID:America/Los_Angeles
BEGIN:DAYLIGHT
TZOFFSETFROM:-0800
TZOFFSETTO:-0700
TZNAME:PDT
DTSTART:20210314T100000
END:DAYLIGHT
BEGIN:STANDARD
TZOFFSETFROM:-0700
TZOFFSETTO:-0800
TZNAME:PST
DTSTART:20211107T090000
END:STANDARD
BEGIN:DAYLIGHT
TZOFFSETFROM:-0800
TZOFFSETTO:-0700
TZNAME:PDT
DTSTART:20220313T100000
END:DAYLIGHT
BEGIN:STANDARD
TZOFFSETFROM:-0700
TZOFFSETTO:-0800
TZNAME:PST
DTSTART:20221106T090000
END:STANDARD
BEGIN:DAYLIGHT
TZOFFSETFROM:-0800
TZOFFSETTO:-0700
TZNAME:PDT
DTSTART:20230312T100000
END:DAYLIGHT
BEGIN:STANDARD
TZOFFSETFROM:-0700
TZOFFSETTO:-0800
TZNAME:PST
DTSTART:20231105T090000
END:STANDARD
END:VTIMEZONE
BEGIN:VEVENT
DTSTART;VALUE=DATE:20220806
DTEND;VALUE=DATE:20220808
DTSTAMP:20260422T233523
CREATED:20220623T002527Z
LAST-MODIFIED:20220824T075752Z
UID:7209-1659744000-1659916799@www.trifectacollectibles.com
SUMMARY:Bay Area Collectors Fest Sports Cards & Autograph Event (Public Signing)
DESCRIPTION:Bay Area Collectors Fest Sports Cards & Autograph Show\n** Accepting mail-ins for all the players attending the show.  Please EMAIL ME at TrifectaCollectibles@gmail.com if you are interested in mailing in your item to get signed. **\nAutograph Guest List:\nBaron Davis: Saturday @ 12:00pm\n$59 – Autograph on Any Item\n$30 – Inscriptions\n$10 – Beckett Witness COA Sticker \nAubrey Huff: Saturday @ 1:00pm\n$49 – Autograph on Any Item (Except Team)\n$69 – Adding Autograph to a Team Signed Item\n$25 – Inscriptions\n$10 – Beckett Witness COA Sticker \nNavorro Bowman: Saturday @ 2:00pm\n$59 – Autograph on Any Item\n$39 – Inscriptions\n$10 – Beckett Witness COA Sticker \nPatrick Willis: Saturday @ 2:00pm\n$75 – Flat or Mini Helmet\n$90 – Full Size Helmet\, Jersey\, Premium Item\n$35 – Inscriptions\n$10 – Beckett Witness COA Sticker \nAzeez Al Shaair: Saturday @ 4:00pm\n$35 – Autograph on Any Item\n$20 – Inscriptions\n$10 – Beckett Witness COA Sticker \nJimmie Ward: Saturday @ 4:00pm\n$45 – Autograph on Any Item\n$20 – Inscriptions\n$10 – Beckett Witness COA Sticker \nAll guest are courtesy of MJM Authentics \nFor more information on this event or any other upcoming autograph shows\, stay in the know and follow our social media accounts below. \nInstagram: @trifecta_sports\nFacebook: Trifecta Sports Collectibles\nWebsite: www.TrifectaCollectibles.com \n** Trifecta Sports Collectibles DOES NOT set the date of the event or responsible for any cancellations. Trifecta Sports Collectibles is not affiliated with the event or any companies which put the event together. Trifecta Sports Collectibles ONLY helps promote the event for the benefit of the members that follow us. \n \n     \n \n 
URL:https://www.trifectacollectibles.com/event/bay-area-collectors-fest-sports-cards-autograph-event/
LOCATION:Santa Clara Convention Center\, 5001 Great America Parkway\, Santa Clara\, Ca\, 95054
CATEGORIES:All Events,Autograph Signings,Past Events,Sports Card/Memorabilia Shows
END:VEVENT
END:VCALENDAR