BEGIN:VCALENDAR
VERSION:2.0
PRODID:-//Trifecta Sports Collectibles - ECPv6.15.20//NONSGML v1.0//EN
CALSCALE:GREGORIAN
METHOD:PUBLISH
X-ORIGINAL-URL:https://www.trifectacollectibles.com
X-WR-CALDESC:Events for Trifecta Sports Collectibles
REFRESH-INTERVAL;VALUE=DURATION:PT1H
X-Robots-Tag:noindex
X-PUBLISHED-TTL:PT1H
BEGIN:VTIMEZONE
TZID:America/Los_Angeles
BEGIN:DAYLIGHT
TZOFFSETFROM:-0800
TZOFFSETTO:-0700
TZNAME:PDT
DTSTART:20210314T100000
END:DAYLIGHT
BEGIN:STANDARD
TZOFFSETFROM:-0700
TZOFFSETTO:-0800
TZNAME:PST
DTSTART:20211107T090000
END:STANDARD
BEGIN:DAYLIGHT
TZOFFSETFROM:-0800
TZOFFSETTO:-0700
TZNAME:PDT
DTSTART:20220313T100000
END:DAYLIGHT
BEGIN:STANDARD
TZOFFSETFROM:-0700
TZOFFSETTO:-0800
TZNAME:PST
DTSTART:20221106T090000
END:STANDARD
BEGIN:DAYLIGHT
TZOFFSETFROM:-0800
TZOFFSETTO:-0700
TZNAME:PDT
DTSTART:20230312T100000
END:DAYLIGHT
BEGIN:STANDARD
TZOFFSETFROM:-0700
TZOFFSETTO:-0800
TZNAME:PST
DTSTART:20231105T090000
END:STANDARD
END:VTIMEZONE
BEGIN:VEVENT
DTSTART;TZID=America/Los_Angeles:20220605T100000
DTEND;TZID=America/Los_Angeles:20220605T170000
DTSTAMP:20260423T023742
CREATED:20220331T003904Z
LAST-MODIFIED:20220623T004440Z
UID:6816-1654423200-1654448400@www.trifectacollectibles.com
SUMMARY:The Collected Sportscard - Collectibles - Memorabilia Show
DESCRIPTION:When: June 5th\, 2022 from 10:00am – 5:00pm \nWhere: Silicon Valley Sports – 2099 S. 10th St. UNIT 90\, San Jose\, Ca \nGeneral Admission: $5.00; Kids 12 & Under are Free \nDetails: 40 Vendors; Food & Desserts; Giveaways \nQuestions/Contact: IG: @thecollected.us or email at Info.thecollected@yahoo.com \n* Trifecta Sports Collectibles DOES NOT set the date of the event or responsible for any cancellations.  Trifecta Sports Collectibles is not affiliated with the event or any companies which put the event together.  Trifecta Sports Collectibles ONLY helps promote the event for the benefit of the members that follow us. \n\nFor more information or if you have questions about the event\, contact the Promoters directly.
URL:https://www.trifectacollectibles.com/event/the-collected-sportscard-collectibles-memorabilia-show/
CATEGORIES:All Events,Past Events,Sports Card/Memorabilia Shows
END:VEVENT
END:VCALENDAR