BEGIN:VCALENDAR
VERSION:2.0
PRODID:-//Trifecta Sports Collectibles - ECPv6.15.20//NONSGML v1.0//EN
CALSCALE:GREGORIAN
METHOD:PUBLISH
X-WR-CALNAME:Trifecta Sports Collectibles
X-ORIGINAL-URL:https://www.trifectacollectibles.com
X-WR-CALDESC:Events for Trifecta Sports Collectibles
REFRESH-INTERVAL;VALUE=DURATION:PT1H
X-Robots-Tag:noindex
X-PUBLISHED-TTL:PT1H
BEGIN:VTIMEZONE
TZID:America/Los_Angeles
BEGIN:DAYLIGHT
TZOFFSETFROM:-0800
TZOFFSETTO:-0700
TZNAME:PDT
DTSTART:20210314T100000
END:DAYLIGHT
BEGIN:STANDARD
TZOFFSETFROM:-0700
TZOFFSETTO:-0800
TZNAME:PST
DTSTART:20211107T090000
END:STANDARD
BEGIN:DAYLIGHT
TZOFFSETFROM:-0800
TZOFFSETTO:-0700
TZNAME:PDT
DTSTART:20220313T100000
END:DAYLIGHT
BEGIN:STANDARD
TZOFFSETFROM:-0700
TZOFFSETTO:-0800
TZNAME:PST
DTSTART:20221106T090000
END:STANDARD
BEGIN:DAYLIGHT
TZOFFSETFROM:-0800
TZOFFSETTO:-0700
TZNAME:PDT
DTSTART:20230312T100000
END:DAYLIGHT
BEGIN:STANDARD
TZOFFSETFROM:-0700
TZOFFSETTO:-0800
TZNAME:PST
DTSTART:20231105T090000
END:STANDARD
END:VTIMEZONE
BEGIN:VEVENT
DTSTART;TZID=America/Los_Angeles:20220320T083000
DTEND;TZID=America/Los_Angeles:20220320T160000
DTSTAMP:20260425T060506
CREATED:20220301T211146Z
LAST-MODIFIED:20220405T225805Z
UID:6695-1647765000-1647792000@www.trifectacollectibles.com
SUMMARY:Newark Card Guy Collectible Show
DESCRIPTION:Newark Card Guy Collectible Show\nMarch 20th\, 2022\nWHERE: Newark Pavillion\, 6430 Thorton Ave. Newark\, Ca\, 94560 \nHOURS: 8:30am – 4:00pm \nCOST: FREE Admission \nDETAILS: Buy/Sell/Trade; Sportscards\, Comic Books\, Toys and More \nCONTACT PROMOTER: Contact Newarkcardguy at 510-386-6383 for any questions. \n* Trifecta Sports Collectibles DOES NOT set the date of the event or responsible for any cancellations.  Trifecta Sports Collectibles is not affiliated with the event or any companies which put the event together.  Trifecta Sports Collectibles ONLY helps promote the event for the benefit of the members that follow us. \n\nFor more information or if you have questions about the event contact the Promoter directly. \n \n 
URL:https://www.trifectacollectibles.com/event/newark-card-guy-collectible-show/
CATEGORIES:All Events,Past Events,Sports Card/Memorabilia Shows
END:VEVENT
BEGIN:VEVENT
DTSTART;TZID=America/Los_Angeles:20220320T120000
DTEND;TZID=America/Los_Angeles:20220320T180000
DTSTAMP:20260425T060506
CREATED:20220301T164108Z
LAST-MODIFIED:20220405T225747Z
UID:6677-1647777600-1647799200@www.trifectacollectibles.com
SUMMARY:S & A Collectibles FUNKO and More Event
DESCRIPTION:FUNKO and MORE Event\nMarch 20th\, 2022 (One Day Show Only)\nWHERE: S & A Collectibles\, 1143 Newpark Mall\, Newark\, Ca \nHOURS: 12:00pm – 6:00pm \nCOST: Customers – FREE Parking; NO Admission \nDETAILS: FUNKO POPS!\, Gaming\, Sports Cards\, Toys and More.  Visit their website @ https://s-acollectibles.com \nCONTACT PROMOTER: Shawn at 510-396-5116 or Send E-Mail to shawn@s-acollectibles.com \n* Trifecta Sports Collectibles DOES NOT set the date of the event or responsible for any cancellations.  Trifecta Sports Collectibles is not affiliated with the event or any companies which put the event together.  Trifecta Sports Collectibles ONLY helps promote the event for the benefit of the members that follow us. \n\nFor more information or if you have questions about the event contact the Promoter directly.
URL:https://www.trifectacollectibles.com/event/s-a-collectibles-funko-and-more-event/
LOCATION:S & A Collectibles\, 2086 Newpark Mall\, Newark\, CA\, 94560\, United States
CATEGORIES:All Events,Past Events,Sports Card/Memorabilia Shows
END:VEVENT
END:VCALENDAR