BEGIN:VCALENDAR
VERSION:2.0
PRODID:-//Trifecta Sports Collectibles - ECPv6.15.20//NONSGML v1.0//EN
CALSCALE:GREGORIAN
METHOD:PUBLISH
X-WR-CALNAME:Trifecta Sports Collectibles
X-ORIGINAL-URL:https://www.trifectacollectibles.com
X-WR-CALDESC:Events for Trifecta Sports Collectibles
REFRESH-INTERVAL;VALUE=DURATION:PT1H
X-Robots-Tag:noindex
X-PUBLISHED-TTL:PT1H
BEGIN:VTIMEZONE
TZID:America/Los_Angeles
BEGIN:DAYLIGHT
TZOFFSETFROM:-0800
TZOFFSETTO:-0700
TZNAME:PDT
DTSTART:20210314T100000
END:DAYLIGHT
BEGIN:STANDARD
TZOFFSETFROM:-0700
TZOFFSETTO:-0800
TZNAME:PST
DTSTART:20211107T090000
END:STANDARD
BEGIN:DAYLIGHT
TZOFFSETFROM:-0800
TZOFFSETTO:-0700
TZNAME:PDT
DTSTART:20220313T100000
END:DAYLIGHT
BEGIN:STANDARD
TZOFFSETFROM:-0700
TZOFFSETTO:-0800
TZNAME:PST
DTSTART:20221106T090000
END:STANDARD
BEGIN:DAYLIGHT
TZOFFSETFROM:-0800
TZOFFSETTO:-0700
TZNAME:PDT
DTSTART:20230312T100000
END:DAYLIGHT
BEGIN:STANDARD
TZOFFSETFROM:-0700
TZOFFSETTO:-0800
TZNAME:PST
DTSTART:20231105T090000
END:STANDARD
END:VTIMEZONE
BEGIN:VEVENT
DTSTART;VALUE=DATE:20220129
DTEND;VALUE=DATE:20220131
DTSTAMP:20260425T060346
CREATED:20220114T215811Z
LAST-MODIFIED:20220405T225916Z
UID:6515-1643414400-1643587199@www.trifectacollectibles.com
SUMMARY:Serramonte Sports Card & Collectibles Mall Show
DESCRIPTION:Serramonte Sports Card & Collectible Mall Show\nSaturday\, Jan. 29 – 10am – 9pm\nSunday\, Jan. 30 – 11am -7pm\nFREE Admission & FREE Parking \nFREE $3500.00\nSports Memorabilia Drawing\nAutographed\, custom matted and framed Ted Williams – Mickey Mantle – Phil Mickelson. \nEnter all show hours – winners need not be present to win! \nFREE Autographed Sports Photos\n11am – 2pm Sunday near Starbucks \nSerramonte Center\n3 Serramonte Blvd\nDaly City\, Ca 94015
URL:https://www.trifectacollectibles.com/event/serramonte-sports-card-collectibles-mall-show/
LOCATION:Serramonte Mall\, Serramonte Blvd.\, Daly City\, CA\, 94015\, United States
CATEGORIES:All Events,Past Events,Sports Card/Memorabilia Shows
END:VEVENT
END:VCALENDAR