BEGIN:VCALENDAR
VERSION:2.0
PRODID:-//Trifecta Sports Collectibles - ECPv6.15.20//NONSGML v1.0//EN
CALSCALE:GREGORIAN
METHOD:PUBLISH
X-WR-CALNAME:Trifecta Sports Collectibles
X-ORIGINAL-URL:https://www.trifectacollectibles.com
X-WR-CALDESC:Events for Trifecta Sports Collectibles
REFRESH-INTERVAL;VALUE=DURATION:PT1H
X-Robots-Tag:noindex
X-PUBLISHED-TTL:PT1H
BEGIN:VTIMEZONE
TZID:America/Los_Angeles
BEGIN:DAYLIGHT
TZOFFSETFROM:-0800
TZOFFSETTO:-0700
TZNAME:PDT
DTSTART:20240310T100000
END:DAYLIGHT
BEGIN:STANDARD
TZOFFSETFROM:-0700
TZOFFSETTO:-0800
TZNAME:PST
DTSTART:20241103T090000
END:STANDARD
BEGIN:DAYLIGHT
TZOFFSETFROM:-0800
TZOFFSETTO:-0700
TZNAME:PDT
DTSTART:20250309T100000
END:DAYLIGHT
BEGIN:STANDARD
TZOFFSETFROM:-0700
TZOFFSETTO:-0800
TZNAME:PST
DTSTART:20251102T090000
END:STANDARD
BEGIN:DAYLIGHT
TZOFFSETFROM:-0800
TZOFFSETTO:-0700
TZNAME:PDT
DTSTART:20260308T100000
END:DAYLIGHT
BEGIN:STANDARD
TZOFFSETFROM:-0700
TZOFFSETTO:-0800
TZNAME:PST
DTSTART:20261101T090000
END:STANDARD
END:VTIMEZONE
BEGIN:VEVENT
DTSTART;TZID=America/Los_Angeles:20250208T100000
DTEND;TZID=America/Los_Angeles:20250208T170000
DTSTAMP:20260420T201719
CREATED:20250102T222751Z
LAST-MODIFIED:20250324T164655Z
UID:12929-1739008800-1739034000@www.trifectacollectibles.com
SUMMARY:East Bay Sports and Collectibles Show (One Day Only)
DESCRIPTION:Eastbay Sports Card & Collectors Show (One Day Only)\nWhen: Saturday February 8th\, 2025\nWhere: Hyatt Regency – SF Airport\, 1333 Old Bayshore Highway\, Burlingame\, Ca\nShow Hours: Opens 10:00am – 5:00pm\nPromoter: 10th Inning Productions; Email: info@eastbaycardshow.com \nStay in the know and follow our social media accounts below:\nInstagram: @trifecta_sports\nFacebook: Trifecta Sports Collectibles \n* Trifecta Sports Collectibles DOES NOT set the date of the event or responsible for any cancellations.  Trifecta Sports Collectibles is not affiliated with the event or any companies which put the event together.  Trifecta Sports Collectibles ONLY helps promote the event for the benefit of the members that follow us. \n\nFor more information or if you have questions about the event\, contact the Promoters directly. \n \n  \n 
URL:https://www.trifectacollectibles.com/event/east-bay-sports-and-collectibles-show-one-day-only/
LOCATION:Hyatt Regency\, 1333 Old Bayshore Hwy\, Burlingame\, Ca\, United States
CATEGORIES:All Events,Past Events,Sports Card/Memorabilia Shows
END:VEVENT
BEGIN:VEVENT
DTSTART;TZID=America/Los_Angeles:20250215T110000
DTEND;TZID=America/Los_Angeles:20250215T170000
DTSTAMP:20260420T201719
CREATED:20250128T022254Z
LAST-MODIFIED:20250324T164603Z
UID:13054-1739617200-1739638800@www.trifectacollectibles.com
SUMMARY:Hype Con Bay Area
DESCRIPTION:Hype Con Bay Area\nFebruary 15th\, 2025\nWhere: Santa Clara Convention Center\n5001 Great America Pkwy\, Santa Clara\, CA 95054 \nVIP Ticket: 10 AM Entry\nGeneral Admission: 11 AM – 5 PM\nPurchase Tickets in Advance for Early Bird Pricing.\nKids 12 & Under Free Admission \nVisit: www.hypecon.co for more information on Special Guest\, Floor Map & Vendor List \nStay in the know and follow our social media accounts below:\nInstagram: @trifecta_sports\nFacebook: Trifecta Sports Collectibles \n* Trifecta Sports Collectibles DOES NOT set the date of the event or responsible for any cancellations.  Trifecta Sports Collectibles is not affiliated with the event or any companies which put the event together.  Trifecta Sports Collectibles ONLY helps promote the event for the benefit of the members that follow us. \n\nFor more information or if you have questions about the event\, contact the Promoters directly.
URL:https://www.trifectacollectibles.com/event/hype-con-bay-area/
LOCATION:Santa Clara Convention Center\, 5001 Great America Parkway\, Santa Clara\, Ca\, 95054
CATEGORIES:All Events,Autograph Signings,Past Events,Sports Card/Memorabilia Shows
END:VEVENT
BEGIN:VEVENT
DTSTART;TZID=America/Los_Angeles:20250222T100000
DTEND;TZID=America/Los_Angeles:20250222T170000
DTSTAMP:20260420T201719
CREATED:20250102T234058Z
LAST-MODIFIED:20250324T164611Z
UID:12931-1740218400-1740243600@www.trifectacollectibles.com
SUMMARY:Empire Sports & World of Sports Presents the Silicon Valley Card & Collectible Show
DESCRIPTION:Empire Sports & World of Sports Presents the Silicon Valley Card & Collectible Show\nWhen: February 8th\, 2025 (Mall hours) \nWhere:  Westgate Center – 1600 Saratoga Ave. San Jose\,  Ca \nCome buy/sell/trade your cards from a variety of vendors. \nIf you are interested in getting a table for this show\, please contact the promoter directly. Contact information is on the photo/flyer. \n** Trifecta Sports Collectibles DOES NOT set the date of the event or responsible for any cancellations. Trifecta Sports Collectibles is not affiliated with the event or any companies which put the event together. Trifecta Sports Collectibles ONLY helps promote the event for the benefit of the members that follow us.
URL:https://www.trifectacollectibles.com/event/empire-sports-world-of-sports-presents-the-silicon-valley-card-collectible-show/
LOCATION:Westgate Mall\, 1600 Saratoga Ave #23E\, San Jose\, CA\, 95129\, United States
CATEGORIES:All Events,Past Events,Sports Card/Memorabilia Shows
END:VEVENT
END:VCALENDAR