BEGIN:VCALENDAR
VERSION:2.0
PRODID:-//Trifecta Sports Collectibles - ECPv6.15.20//NONSGML v1.0//EN
CALSCALE:GREGORIAN
METHOD:PUBLISH
X-ORIGINAL-URL:https://www.trifectacollectibles.com
X-WR-CALDESC:Events for Trifecta Sports Collectibles
REFRESH-INTERVAL;VALUE=DURATION:PT1H
X-Robots-Tag:noindex
X-PUBLISHED-TTL:PT1H
BEGIN:VTIMEZONE
TZID:America/Los_Angeles
BEGIN:DAYLIGHT
TZOFFSETFROM:-0800
TZOFFSETTO:-0700
TZNAME:PDT
DTSTART:20230312T100000
END:DAYLIGHT
BEGIN:STANDARD
TZOFFSETFROM:-0700
TZOFFSETTO:-0800
TZNAME:PST
DTSTART:20231105T090000
END:STANDARD
BEGIN:DAYLIGHT
TZOFFSETFROM:-0800
TZOFFSETTO:-0700
TZNAME:PDT
DTSTART:20240310T100000
END:DAYLIGHT
BEGIN:STANDARD
TZOFFSETFROM:-0700
TZOFFSETTO:-0800
TZNAME:PST
DTSTART:20241103T090000
END:STANDARD
BEGIN:DAYLIGHT
TZOFFSETFROM:-0800
TZOFFSETTO:-0700
TZNAME:PDT
DTSTART:20250309T100000
END:DAYLIGHT
BEGIN:STANDARD
TZOFFSETFROM:-0700
TZOFFSETTO:-0800
TZNAME:PST
DTSTART:20251102T090000
END:STANDARD
END:VTIMEZONE
BEGIN:VEVENT
DTSTART;VALUE=DATE:20240831
DTEND;VALUE=DATE:20240902
DTSTAMP:20260421T044725
CREATED:20240405T101235Z
LAST-MODIFIED:20240906T082033Z
UID:11086-1725062400-1725235199@www.trifectacollectibles.com
SUMMARY:World of Sports & Empire Sports Presents the COW PALACE Show Labor Day Weekend
DESCRIPTION:Empire Sports & World of Sports Memorabilia Presents the SF Cow Palace Show (LABOR DAY WEEKEND)\nWhere: Cow Palace – 2600 Geneva Ave – Daly City – Ca\nWhen: August 31st – September 1st; Saturday 10am – 7pm; Sunday 10am – 6pm\nVendors: 400 Tables under 1 roof.  Buy\, Sell and Trade with the best dealers.  Sports Cards\, Pokemon\, Memorabilia and Several Autograph Guest will all be there at this show. Autograph guest will be added as the event gets closer.  Make sure to check back here for the latest additions and show updates. \nIf you can’t attend the event\, Trifecta Sports Collectibles\, is an APPROVED Mail-In Partner to help you get the autograph(s) via our Mail-In Program. \nMail In and Completed Item Orders must be placed via EMAIL ONLY – DMs\, text\, or verbal request will not be fulfilled.  Thank you for your participation.\nEmail: trifectacollectibles@gmail.com to place your order or if you have any questions.   \nAutograph Guest List: (Updated as August 22nd\, 2024) \nClick on Player Name to purchase advance tickets.  Tickets will be also available the day of the show. \nLogan Webb: (POSTPONED) \nPete Rose: September 1st\, 1:00pm\nMail Order & In Person Show Pricing\n$79.00 – Flats up to and including 16×20 & Baseballs\n$99.00 – Bats\, Jerseys\, Large Flats\, Equipment\n$499.00 – Rookie Cards & Tickets\n$109.00 –  I’m sorry I bet on baseball Inscription\n$39.00 – All other Inscriptions (3 words max)\n$10.00 – COA Sticker \nDre Greenlaw: August 31st\, 2:00pm\nMail Order & In Person Show Pricing\n$69.00 – Any Item\n$39.00 – Inscription (3 words max)\n$10.00 – COA Sticker \nRicky Pearsall: August 31st\, 1:00pm\nMail Order & In Person Show Pricing\n$79.00 – Any Item\n$35.00 – Inscription (3 words max)\n$10.00 – COA Sticker \nTyler Fitzgerald: September 1st\, 5:00pm\nMail Order & In Person Show Pricing\n$49.00 – Any Item\n$20.00 – Inscription (3 words max)\n$10.00 – COA Sticker \nRoger Craig: August 31st\, 12:00pm\nMail Order & In Person Show Pricing\n$49.00 – Any Item\n$25.00 – Cards (Mail-in Special ONLY)\n$25.00 – Inscription (3 words max)\n$10.00 – COA Sticker \nMatt Williams: August 31st\, 11:00am\nMail Order Pricing:\n$25.00 – Cards (Mail-in Special ONLY)\n$39.00 – Flats (Photos\, Tickets\, Funko POPS\, Etc) & Baseballs\n$59.00 – All other items (Bats\, Jerseys\, Equipment\, Full Size Helmets)\n$29.00 – Inscription (3 words max)\n$10.00 – COA Sticker \nIn Person Show Pricing:\n$49.00 – Any Item\n$29.00 – Inscription (3 words max) \nDonte Whitner: August 31st\, 12:00pm\nMail Order & In Person Show Pricing\n$29.00 – Any Item\n$19.00 – Inscription (3 words max)\n$10.00 – COA Sticker \nJake Moody: August 31st\, 12:00pm\nMail Order & In Person Show Pricing\n$49.00 – Any Item\n$19.00 – Inscription (3 words max)\n$10.00 – COA Sticker \nGeorge Odum: August 31st\, 12:30pm\nMail Order & In Person Show Pricing\n$29.00 – Any Item\n$19.00 – Inscription (3 words max)\n$10.00 – COA Sticker \nRenardo Green: August 31st\, 12:30pm\nMail Order & In Person Show Pricing\n$39.00 – Any Item\n$19.00 – Inscription (3 words max)\n$10.00 – COA Sticker \n\nAlways stay in the know and follow our social media accounts below\, bookmark the website or send us an email if you have any questions. \nInstagram: @trifecta_sports_collectibles\nFacebook: Trifecta Sports Collectibles\nWebsite: www.TrifectaCollectibles.com\nEmail: trifectacollectibles@gmail.com \n** Trifecta Sports Collectibles DOES NOT set the date of the event or responsible for any cancellations. Trifecta Sports Collectibles is not affiliated with the event or any companies which put the event together. Trifecta Sports Collectibles ONLY helps promote the event for the benefit of the members that follow us.
URL:https://www.trifectacollectibles.com/event/world-of-sports-empire-sports-presents-the-cow-palace-show-labor-day-weekend/
LOCATION:Cow Palace\, 2600 Geneva Ave.\, Daly City\, CA\, 94014\, United States
CATEGORIES:All Events,Autograph Signings,Past Events,Sports Card/Memorabilia Shows
END:VEVENT
BEGIN:VEVENT
DTSTART;TZID=America/Los_Angeles:20240914T090000
DTEND;TZID=America/Los_Angeles:20240914T160000
DTSTAMP:20260421T044725
CREATED:20240906T071019Z
LAST-MODIFIED:20241118T011919Z
UID:12252-1726304400-1726329600@www.trifectacollectibles.com
SUMMARY:Sacramento Card Show - 130+ Tables
DESCRIPTION:Sports Cards and Collectibles Show – Sacramento\nOne of the longest running sports card shows in California. \nDate: September 14th\, 2024\nVenue: Wyndham Sacramento\nAddress: 5321 Date Ave\, Sacramento\, CA  95841 \nShow Hours: 9:00 a.m. – 4:00 p.m. \nAdmission: $1.00 (under 12 Free)\nParking: Free\n130+ Vendor Tables \nBuy/Sell/Trade Sports Cards/Non-Sports Cards/Memorabilia/Wax Boxes/Autographs and more \nContact: Steve Westerson (916) 704-3865\nEmail: sacramentosportscardshows@gmail.com
URL:https://www.trifectacollectibles.com/event/sacramento-card-show-130-tables/
LOCATION:Wyndham Sacramento Hotel\, 5321 Date Ave\, Sacramento\, CA\, 95841\, United States
CATEGORIES:All Events,Past Events,Sports Card/Memorabilia Shows
END:VEVENT
BEGIN:VEVENT
DTSTART;TZID=America/Los_Angeles:20240914T100000
DTEND;TZID=America/Los_Angeles:20240914T170000
DTSTAMP:20260421T044725
CREATED:20240906T081626Z
LAST-MODIFIED:20241118T011912Z
UID:12276-1726308000-1726333200@www.trifectacollectibles.com
SUMMARY:World of Sports & Empire Sports Presents the Silicon Valley Card Show
DESCRIPTION:Empire Sports & World of Sports Presents Monthly Silicon Valley Card & Collectible Show\nWhen: September 14th\, 2024 (Mall hours) \nWhere:  Westgate Center – 1600 Saratoga Ave. San Jose\,  Ca \nCome buy/sell/trade your cards from a variety of vendors. \nIf you are interested in getting a table for this show\, please contact the promoter directly. Contact information is on the photo/flyer. \n** Trifecta Sports Collectibles DOES NOT set the date of the event or responsible for any cancellations. Trifecta Sports Collectibles is not affiliated with the event or any companies which put the event together. Trifecta Sports Collectibles ONLY helps promote the event for the benefit of the members that follow us.
URL:https://www.trifectacollectibles.com/event/world-of-sports-empire-sports-presents-the-silicon-valley-card-show/
LOCATION:Westgate Mall\, 1600 Saratoga Ave #23E\, San Jose\, CA\, 95129\, United States
CATEGORIES:All Events,Past Events,Sports Card/Memorabilia Shows
END:VEVENT
BEGIN:VEVENT
DTSTART;TZID=America/Los_Angeles:20240921T090000
DTEND;TZID=America/Los_Angeles:20240922T160000
DTSTAMP:20260421T044725
CREATED:20240906T074124Z
LAST-MODIFIED:20241118T011906Z
UID:12264-1726909200-1727020800@www.trifectacollectibles.com
SUMMARY:The Card Attic Presents the Newark/Fremont Card Show
DESCRIPTION:The Card Attic Presents a Sports Card & Collectible Show Featuring Autograph Guest Jose Canseco & Ozzie Canseco\nShow Hours:\nSaturday – September 21st – 9:00am to 4:00pm\nSunday – September 22nd – 9:00am to 4:00pm \nAutograph Guest:\nJose & Ozzie Canseco- Saturday\, September 21st\nAppearing 11:00am – 2:00pm \nLocation: Double Tree Hotel – 39900 Balentine Dr.\, Newark\, Ca \n$5.00 admission (12 & Under FREE) – Free Parking \nCome buy/sell/trade your cards from a variety of vendors.\nIf you are interested in getting a table for this show\, please contact the promoter directly.  Contact information is on the photo/flyer. \nFor more information on this event or any other upcoming autograph shows\, stay in the know and follow our social media accounts below.\nInstagram: @trifecta_sports\nFacebook: Trifecta Sports Collectibles\nWebsite: www.TrifectaCollectibles.com \nHelp us keep growing this page and share it\, tag people\, put on your story and let’s keep everyone in the know. Thank you for your support. 👍 \n** Trifecta Sports Collectibles DOES NOT set the date of the event or responsible for any cancellations. Trifecta Sports Collectibles is not affiliated with the event or any companies which put the event together. Trifecta Sports Collectibles ONLY helps promote the event for the benefit of the members that follow us. \n#eliminateFOMO #alwaysbeintheknow #whodoyoucollect #sportscards #pokemoncards #tcg #autographs #memorabilia #panini #publicsigning #supportyourlocalcardshow #supportyourlocalcardshop
URL:https://www.trifectacollectibles.com/event/the-card-attic-presents-the-newark-fremont-card-show/
LOCATION:CA
CATEGORIES:All Events,Autograph Signings,Past Events,Sports Card/Memorabilia Shows
END:VEVENT
END:VCALENDAR