BEGIN:VCALENDAR
VERSION:2.0
PRODID:-//Trifecta Sports Collectibles - ECPv6.15.20//NONSGML v1.0//EN
CALSCALE:GREGORIAN
METHOD:PUBLISH
X-WR-CALNAME:Trifecta Sports Collectibles
X-ORIGINAL-URL:https://www.trifectacollectibles.com
X-WR-CALDESC:Events for Trifecta Sports Collectibles
REFRESH-INTERVAL;VALUE=DURATION:PT1H
X-Robots-Tag:noindex
X-PUBLISHED-TTL:PT1H
BEGIN:VTIMEZONE
TZID:America/Los_Angeles
BEGIN:DAYLIGHT
TZOFFSETFROM:-0800
TZOFFSETTO:-0700
TZNAME:PDT
DTSTART:20230312T100000
END:DAYLIGHT
BEGIN:STANDARD
TZOFFSETFROM:-0700
TZOFFSETTO:-0800
TZNAME:PST
DTSTART:20231105T090000
END:STANDARD
BEGIN:DAYLIGHT
TZOFFSETFROM:-0800
TZOFFSETTO:-0700
TZNAME:PDT
DTSTART:20240310T100000
END:DAYLIGHT
BEGIN:STANDARD
TZOFFSETFROM:-0700
TZOFFSETTO:-0800
TZNAME:PST
DTSTART:20241103T090000
END:STANDARD
BEGIN:DAYLIGHT
TZOFFSETFROM:-0800
TZOFFSETTO:-0700
TZNAME:PDT
DTSTART:20250309T100000
END:DAYLIGHT
BEGIN:STANDARD
TZOFFSETFROM:-0700
TZOFFSETTO:-0800
TZNAME:PST
DTSTART:20251102T090000
END:STANDARD
END:VTIMEZONE
BEGIN:VEVENT
DTSTART;VALUE=DATE:20240322
DTEND;VALUE=DATE:20240325
DTSTAMP:20260421T143247
CREATED:20240221T191706Z
LAST-MODIFIED:20240603T165937Z
UID:10465-1711065600-1711324799@www.trifectacollectibles.com
SUMMARY:World of Sports & Empire Sports Presents the SF Cow Palace Show (It's BACK!)
DESCRIPTION:Empire Sports & World of Sports Memorabilia Presents the SF Cow Palace Show\nWhere: Cow Palace – 2600 Geneva Ave – Daly City – Ca\nWhen: March 22nd – March 24th\nVendors: 400 Tables under 1 roof.  Buy\, Sell and Trade with the best dealers.  Sports Cards\, Pokemon\, Memorabilia and Several Autograph Guest will all be there at this show. More autograph guest will be added as the event gets closer.  Make sure to check back here for the latest additions and show updates. \nIf you can’t attend the event\, Trifecta Sports Collectibles\, is an APPROVED Mail-In Partner to help you get the autograph(s) via our Mail-In Program or check out the Completed Item Pricing .  For mail ins\, send your items to me and will get your items signed for you. To participate please fill out the the Mail-In Form or Completed Item Form. \nMail In and Completed Item Orders must be placed via filling out the forms – DMs\, text\, or verbal request will not be fulfilled.  Thank you for your participation. \nMAIL IN DEADLINE – Must have all item(s) and payment in hand no later than March 18th. \nCOMPLETED ITEM DEADLINE – Must have payment no later than March 20th.\nAutograph Guest List: (will be updated when more guest are added)(Updated as of 2/29/24)\nFrank Gore\nPatrick Willis\nRoger Craig\nJohn Taylor\nLogan Webb\nRickey Henderson \nSaturday\nFrank Gore: March 23rd @ 2:00pm\nPricing on YOUR Mail-In Items: \n$69 – Any Item\n$10 – Beckett Witness Authentication Sticker \nRoger Craig: March 23rd @ 4:00pm\nPricing on YOUR Mail-In Items: \n$49 – Any Item\n$25 – Inscription (3 words per inscription) (Optional)\n$10 – Beckett Witness Authentication Sticker. (Optional) \nJohh Taylor: March 23rd @ 1:00pm\nPricing on YOUR Mail-In Items: \n$40 – Any Item\n$10 – Inscription (3 words per inscription) (Optional)\n$10 – Beckett Witness Authentication Sticker. (Optional) \nSunday\nPatrick Willis: March 24th @ 12:00pm\nPricing on YOUR Mail-In Items: \n$80 – Flats / Minis (Photos\, Cards\, Tickets\,  Magazines\, Funko POPS\, Mini Helmets)\n$100 – Premium (Jerseys\, Footballs\, Full Size Helmets\, Oversized Items\, Bobbleheads\n$35 – Inscription (3 words per inscription) (Optional)\n$10 – Beckett Witness Authentication Sticker. (Optional) \nRickey Henderson: March 24th @ 2:00pm \nPricing on YOUR Mail-In Items: \n$150 – No Rookie Cards\, Baseballs and Flats up to 8×10\n$200 – Bobbleheads\, Funko POPS\, Flats up to 16×20\n$200 – Rookie Cards (1980 Topps)\n$295 – Jerseys\, Bats\, Equipment and other items\n$100 – Inscriptions (3 words or less)\nGame Used Items (No Bases) – Please Call\n$10 – Beckett Witness Authentication Sticker \nLogan Webb: March 24th @ 11:00am\nPricing on YOUR Mail-In Items: \n$70 – Flats / Minis (Photos\, Cards\, Tickets\,  Magazines\, Funko POPS\, Mini Helmets)\n$85 – Premium (Jerseys\, Bats\, Full Size Helmets\, Oversized Items\, Bobbleheads)\n$30 – Inscription (3 words per inscription) (Optional)\n$10 – Beckett Witness Authentication Sticker. (Optional) \n\nClick here to see Completed Item Pricing:  \nPLEASE send ALL questions to trifectacollectibles@gmail.com\nMail In Orders must be placed through the Mail-In Order Form.   \nAttending the event? You can purchase tickets at WWW.EMPIRESPORTSUSA.COM \nAlways stay in the know and follow our social media accounts below\, bookmark the website or send us an email if you have any questions. \nInstagram: @trifecta_sports\nFacebook: Trifecta Sports Collectibles\nWebsite: www.TrifectaCollectibles.com\nEmail: trifectacollectibles@gmail.com \n** Trifecta Sports Collectibles DOES NOT set the date of the event or responsible for any cancellations. Trifecta Sports Collectibles is not affiliated with the event or any companies which put the event together. Trifecta Sports Collectibles ONLY helps promote the event for the benefit of the members that follow us. \n\n \n  \n 
URL:https://www.trifectacollectibles.com/event/world-of-sports-empire-sports-presents-the-sf-cow-palace-show-its-back/
LOCATION:Cow Palace\, 2600 Geneva Ave.\, Daly City\, CA\, 94014\, United States
CATEGORIES:All Events,Autograph Signings,Past Events,Sports Card/Memorabilia Shows
END:VEVENT
BEGIN:VEVENT
DTSTART;VALUE=DATE:20240322
DTEND;VALUE=DATE:20240325
DTSTAMP:20260421T143247
CREATED:20240312T224817Z
LAST-MODIFIED:20240312T230834Z
UID:10903-1711065600-1711324799@www.trifectacollectibles.com
SUMMARY:Completed Item Pricing for Cow Palace Show
DESCRIPTION:Empire Sports & World of Sports Memorabilia Presents the SF Cow Palace Show\nIf you can’t attend the event and don’t have anything to mail in\, use the COMPLETED ITEM option.\nCompleted item option includes OUR ITEM\, autograph cost\, Authentication Sticker and shipping cost to send item to you. \nCompleted Item Orders must be placed the COMPLETED ITEM FORM – DMs\, text\, or verbal request will not be fulfilled.  Thank you for your participation. \nCOMPLETED ITEM DEADLINE – Must payment no later than March 20th. \nFrank Gore Completed Item Pricing: \n$123 –  Speed Mini Helmet\n$133 – Slate Mini Helmet\n$133 – Throwback Helmet (Red Face Mask)\n$140 – Custom Jersey\n$140 – Logo Football\n$345 – Full Size Speed Replica Helmet\n$485 – Full Size Authentic Helmet \nRoger Craig Completed Item Pricing: \n$103 –  Speed Mini Helmet\n$112 – Slate Mini Helmet\n$112 – Throwback Helmet (Red Face Mask)\n$119 – Custom Jersey\n$119 – Logo Football \nJohn Taylor Completed Item Pricing: \n$93 –  Speed Mini Helmet\n$103 – Slate Mini Helmet\n$103 – Throwback Helmet (Red Face Mask)\n$110 – Custom Jersey\n$110 – Logo Football \nPatrick Willis Completed Item Pricing: \n$133 –  Speed Mini Helmet\n$143 – Slate Mini Helmet\n$143 – Throwback Helmet (Red Face Mask)\n$170 – Custom Jersey\n$170 – Logo Football\n$375 – Full Size Speed Replica Helmet\n$515 – Full Size Authentic Helmet \nRickey Henderson Completed Item Pricing: \n$198 – Official Major League Baseball\n$365 – Custom Jerseys\n$375 – Rawlings Bat \nLogan Webb Completed Item Pricing:\n$118 – Official Major League Baseball\n$155 – Custom Jerseys\n \n\nPLEASE send ALL questions to trifectacollectibles@gmail.com\nCOMPLETED ITEM Orders must be placed through the COMPLETED ITEM Form.  Thank you for your cooperation. \nAttending the event? You can purchase tickets at WWW.EMPIRESPORTSUSA.COM \nAlways stay in the know and follow our social media accounts below\, bookmark the website or send us an email if you have any questions. \nInstagram: @trifecta_sports\nFacebook: Trifecta Sports Collectibles\nWebsite: www.TrifectaCollectibles.com\nEmail: trifectacollectibles@gmail.com \n** Trifecta Sports Collectibles DOES NOT set the date of the event or responsible for any cancellations. Trifecta Sports Collectibles is not affiliated with the event or any companies which put the event together. Trifecta Sports Collectibles ONLY helps promote the event for the benefit of the members that follow us. \n\n \n  \n 
URL:https://www.trifectacollectibles.com/event/completed-item-signing-for-cow-palace-show/
LOCATION:CA
CATEGORIES:All Events,Autograph Signings,Sports Card/Memorabilia Shows
END:VEVENT
BEGIN:VEVENT
DTSTART;TZID=America/Los_Angeles:20240323T090000
DTEND;TZID=America/Los_Angeles:20240323T160000
DTSTAMP:20260421T143247
CREATED:20240120T005047Z
LAST-MODIFIED:20240120T005336Z
UID:10305-1711184400-1711209600@www.trifectacollectibles.com
SUMMARY:Sacramento Sports Card and Collectible Show
DESCRIPTION:Sports Cards and Collectibles Show – Sacramento\nOne of the longest running sports card shows in California. \nDate: March 23\, 2024\nVenue: Wyndham Sacramento\nAddress: 5321 Date Ave\, Sacramento\, CA  95841 \nShow Hours: 9:00 a.m. – 4:00 p.m. \nAdmission: Free\nParking: Free\n90 Vendor Tables \nBuy/Sell/Trade Sports Cards/Non-Sports Cards/Memorabilia/Wax Boxes/Autographs and more \nContact: Steve Westerson (916) 704-3865\nEmail: sacramentosportscardshows@gmail.com
URL:https://www.trifectacollectibles.com/event/10305/
LOCATION:Wyndham Sacramento Hotel\, 5321 Date Ave\, Sacramento\, CA\, 95841\, United States
CATEGORIES:All Events,Sports Card/Memorabilia Shows
END:VEVENT
END:VCALENDAR