BEGIN:VCALENDAR
VERSION:2.0
PRODID:-//Trifecta Sports Collectibles - ECPv6.15.20//NONSGML v1.0//EN
CALSCALE:GREGORIAN
METHOD:PUBLISH
X-WR-CALNAME:Trifecta Sports Collectibles
X-ORIGINAL-URL:https://www.trifectacollectibles.com
X-WR-CALDESC:Events for Trifecta Sports Collectibles
REFRESH-INTERVAL;VALUE=DURATION:PT1H
X-Robots-Tag:noindex
X-PUBLISHED-TTL:PT1H
BEGIN:VTIMEZONE
TZID:America/Los_Angeles
BEGIN:DAYLIGHT
TZOFFSETFROM:-0800
TZOFFSETTO:-0700
TZNAME:PDT
DTSTART:20220313T100000
END:DAYLIGHT
BEGIN:STANDARD
TZOFFSETFROM:-0700
TZOFFSETTO:-0800
TZNAME:PST
DTSTART:20221106T090000
END:STANDARD
BEGIN:DAYLIGHT
TZOFFSETFROM:-0800
TZOFFSETTO:-0700
TZNAME:PDT
DTSTART:20230312T100000
END:DAYLIGHT
BEGIN:STANDARD
TZOFFSETFROM:-0700
TZOFFSETTO:-0800
TZNAME:PST
DTSTART:20231105T090000
END:STANDARD
BEGIN:DAYLIGHT
TZOFFSETFROM:-0800
TZOFFSETTO:-0700
TZNAME:PDT
DTSTART:20240310T100000
END:DAYLIGHT
BEGIN:STANDARD
TZOFFSETFROM:-0700
TZOFFSETTO:-0800
TZNAME:PST
DTSTART:20241103T090000
END:STANDARD
END:VTIMEZONE
BEGIN:VEVENT
DTSTART;TZID=America/Los_Angeles:20231216T140000
DTEND;TZID=America/Los_Angeles:20231216T160000
DTSTAMP:20260421T191627
CREATED:20231024T185251Z
LAST-MODIFIED:20240109T232428Z
UID:9251-1702735200-1702742400@www.trifectacollectibles.com
SUMMARY:Jim Plunkett Autograph Event (Public Signing)
DESCRIPTION:Empire Sports & World of Sports Memorabilia Presents an In Store Autograph Event with Jim Plunkett \nWhere: World of Sports Store during the Silicone Valley Card Show at 1600 Saratoga Ave\, San Jose\, Ca \nThis is a PUBLIC Autograph Event so you will able to get your items signed IN PERSON. \nBUT… \nIf you can’t attend the event\, Trifecta Sports Collectibles\, is an APPROVED Mail-In Partner to help you get the autograph(s) via our Mail-In Program.  You would mail your items to me and will get your items signed for you. \nYour Item Pricing: \n$75 – Flats\, Mini Helmets and Cards\n$85 – Jerseys\, Footballs and Full Size Helmets\n$40 – Inscriptions (Up to 3 words max per inscription) Heisman ’70 or SB XV MVP\n$10 – COA Authentication \nMAIL IN DEADLINE – Must have all item(s) and payment in hand no later than December 11th\, 2023; Completed Item Deadline 12/14 \nPLEASE send ALL questions to trifectacollectibles@gmail.com\nMail In Orders must be placed via email ONLY. Thank you for your cooperation. \nFor more detailed information on this event or any other upcoming autograph shows & sports card shows\, go to www.TrifectaCollectibles.com\nAlways stay in the know and follow our social media accounts below\, bookmark the website or send us an email if you have any questions. \nInstagram: @trifecta_sports\nFacebook: Trifecta Sports Collectibles\nWebsite: www.TrifectaCollectibles.com\nEmail: trifectacollectibles@gmail.com \nHelp us keep growing this page and share it\, tag people\, put on your story and let’s keep everyone in the know. Thank you for your support. 👍 \n** Trifecta Sports Collectibles DOES NOT set the date of the event or responsible for any cancellations. Trifecta Sports Collectibles is not affiliated with the event or any companies which put the event together. Trifecta Sports Collectibles ONLY helps promote the event for the benefit of the members that follow us.
URL:https://www.trifectacollectibles.com/event/jim-plunkett-autograph-event-public-signing/
LOCATION:World of Sports Memorabilia\, 1600 Saratoga Ave.\, San Jose\, CA\, 95110\, United States
CATEGORIES:All Events,Autograph Signings,Past Events,Sports Card/Memorabilia Shows
END:VEVENT
END:VCALENDAR