BEGIN:VCALENDAR
VERSION:2.0
PRODID:-//Trifecta Sports Collectibles - ECPv6.15.20//NONSGML v1.0//EN
CALSCALE:GREGORIAN
METHOD:PUBLISH
X-ORIGINAL-URL:https://www.trifectacollectibles.com
X-WR-CALDESC:Events for Trifecta Sports Collectibles
REFRESH-INTERVAL;VALUE=DURATION:PT1H
X-Robots-Tag:noindex
X-PUBLISHED-TTL:PT1H
BEGIN:VTIMEZONE
TZID:America/Los_Angeles
BEGIN:DAYLIGHT
TZOFFSETFROM:-0800
TZOFFSETTO:-0700
TZNAME:PDT
DTSTART:20220313T100000
END:DAYLIGHT
BEGIN:STANDARD
TZOFFSETFROM:-0700
TZOFFSETTO:-0800
TZNAME:PST
DTSTART:20221106T090000
END:STANDARD
BEGIN:DAYLIGHT
TZOFFSETFROM:-0800
TZOFFSETTO:-0700
TZNAME:PDT
DTSTART:20230312T100000
END:DAYLIGHT
BEGIN:STANDARD
TZOFFSETFROM:-0700
TZOFFSETTO:-0800
TZNAME:PST
DTSTART:20231105T090000
END:STANDARD
BEGIN:DAYLIGHT
TZOFFSETFROM:-0800
TZOFFSETTO:-0700
TZNAME:PDT
DTSTART:20240310T100000
END:DAYLIGHT
BEGIN:STANDARD
TZOFFSETFROM:-0700
TZOFFSETTO:-0800
TZNAME:PST
DTSTART:20241103T090000
END:STANDARD
END:VTIMEZONE
BEGIN:VEVENT
DTSTART;VALUE=DATE:20231110
DTEND;VALUE=DATE:20231112
DTSTAMP:20260421T205824
CREATED:20231020T190402Z
LAST-MODIFIED:20231020T190402Z
UID:9191-1699574400-1699747199@www.trifectacollectibles.com
SUMMARY:San Francisco Card Show\, November 2023
DESCRIPTION:San Francisco Card Show on November 10th and 11th at the South San Francisco Conference Center. \nFriday – 12pm to 6pm\nSaturday – 10am to 5pm \nMore information to come. \nStay in the know and follow our social media accounts below. \nInstagram: @trifecta_sports\nFacebook: Trifecta Sports Collectibles\nWebsite: www.TrifectaCollectibles.com \n** Trifecta Sports Collectibles DOES NOT set the date of the event or responsible for any cancellations. Trifecta Sports Collectibles is not affiliated with the event or any companies which put the event together. Trifecta Sports Collectibles ONLY helps promote the event for the benefit of the members that follow us. \n#sanfranciscocardshow #moreinfotocome #notsureifthereisanautographguest #staytuned
URL:https://www.trifectacollectibles.com/event/san-francisco-card-show-november-2023/
LOCATION:South San Francisco Conference Center\, 255 South Airport Blvd\, South San Francisco\, Ca\, 94080
CATEGORIES:All Events,Sports Card/Memorabilia Shows
END:VEVENT
BEGIN:VEVENT
DTSTART;TZID=America/Los_Angeles:20231118T120000
DTEND;TZID=America/Los_Angeles:20231118T140000
DTSTAMP:20260421T205824
CREATED:20231024T182639Z
LAST-MODIFIED:20240109T232519Z
UID:9248-1700308800-1700316000@www.trifectacollectibles.com
SUMMARY:Gary Plummer Autograph Event (Public Signing)
DESCRIPTION:Empire Sports & World of Sports Memorabilia Presents an In Store Autograph Event with Gary Plummer \nWhere: World of Sports Store during the Silicone Valley Card Show at 1600 Saratoga Ave\, San Jose\, Ca \nThis is a PUBLIC Autograph Event so you will able to get your items signed IN PERSON. \nBUT… \nIf you can’t attend the event\, Trifecta Sports Collectibles\, is an APPROVED Mail-In Partner to help you get the autograph(s) via our Mail-In Program.  You would mail your items to me and will get your items signed for you. \nYour Item Pricing: \n$25 – Any Item\n$35 – Photo Op and Autograph\n$10 – Inscriptions (Up to 3 words max per inscription)\n$10 – COA Authentication \nMAIL IN DEADLINE – Must have all item(s) and payment in hand no later than November 14th\, 2023 \nPLEASE send ALL questions to trifectacollectibles@gmail.com\nMail In Orders must be placed via email ONLY. Thank you for your cooperation. \nFor more detailed information on this event or any other upcoming autograph shows & sports card shows\, go to www.TrifectaCollectibles.com\nAlways stay in the know and follow our social media accounts below\, bookmark the website or send us an email if you have any questions. \nInstagram: @trifecta_sports\nFacebook: Trifecta Sports Collectibles\nWebsite: www.TrifectaCollectibles.com\nEmail: trifectacollectibles@gmail.com \nHelp us keep growing this page and share it\, tag people\, put on your story and let’s keep everyone in the know. Thank you for your support. 👍 \n** Trifecta Sports Collectibles DOES NOT set the date of the event or responsible for any cancellations. Trifecta Sports Collectibles is not affiliated with the event or any companies which put the event together. Trifecta Sports Collectibles ONLY helps promote the event for the benefit of the members that follow us.
URL:https://www.trifectacollectibles.com/event/gary-plummer-autograph-event-public-signing/
LOCATION:World of Sports Memorabilia\, 1600 Saratoga Ave.\, San Jose\, CA\, 95110\, United States
CATEGORIES:All Events,Autograph Signings,Past Events,Sports Card/Memorabilia Shows
END:VEVENT
END:VCALENDAR