BEGIN:VCALENDAR
VERSION:2.0
PRODID:-//Trifecta Sports Collectibles - ECPv6.15.20//NONSGML v1.0//EN
CALSCALE:GREGORIAN
METHOD:PUBLISH
X-WR-CALNAME:Trifecta Sports Collectibles
X-ORIGINAL-URL:https://www.trifectacollectibles.com
X-WR-CALDESC:Events for Trifecta Sports Collectibles
REFRESH-INTERVAL;VALUE=DURATION:PT1H
X-Robots-Tag:noindex
X-PUBLISHED-TTL:PT1H
BEGIN:VTIMEZONE
TZID:America/Los_Angeles
BEGIN:DAYLIGHT
TZOFFSETFROM:-0800
TZOFFSETTO:-0700
TZNAME:PDT
DTSTART:20220313T100000
END:DAYLIGHT
BEGIN:STANDARD
TZOFFSETFROM:-0700
TZOFFSETTO:-0800
TZNAME:PST
DTSTART:20221106T090000
END:STANDARD
BEGIN:DAYLIGHT
TZOFFSETFROM:-0800
TZOFFSETTO:-0700
TZNAME:PDT
DTSTART:20230312T100000
END:DAYLIGHT
BEGIN:STANDARD
TZOFFSETFROM:-0700
TZOFFSETTO:-0800
TZNAME:PST
DTSTART:20231105T090000
END:STANDARD
BEGIN:DAYLIGHT
TZOFFSETFROM:-0800
TZOFFSETTO:-0700
TZNAME:PDT
DTSTART:20240310T100000
END:DAYLIGHT
BEGIN:STANDARD
TZOFFSETFROM:-0700
TZOFFSETTO:-0800
TZNAME:PST
DTSTART:20241103T090000
END:STANDARD
END:VTIMEZONE
BEGIN:VEVENT
DTSTART;TZID=America/Los_Angeles:20230817T080000
DTEND;TZID=America/Los_Angeles:20230817T170000
DTSTAMP:20260422T015327
CREATED:20230817T085727Z
LAST-MODIFIED:20240109T232730Z
UID:8825-1692259200-1692291600@www.trifectacollectibles.com
SUMMARY:The Card Attic Presents The Fairfield Card Show (350 Tables)
DESCRIPTION:The Card Attic Presents a Sports Card & Collectible Show \nShow Hours:\nFriday September 29th – 3pm to 9pm\nSaturday – September 30th – 10am to 5pm\nSunday – October 1st – 10am to 4pm \nLocation: Solano Town Center\, “Forever 21” store in Fairfield\, Ca \n350+ Vendor Tables!!! Come buy/sell/trade your cards from a variety of vendors.\nIf you are interested in getting a table for this show\, please contact the promoter directly.  Contact information is on the photo/flyer below. \nFor more information on this event or any other upcoming autograph shows\, stay in the know and follow our social media accounts below.\nInstagram: @trifecta_sports\nFacebook: Trifecta Sports Collectibles\nWebsite: www.TrifectaCollectibles.com \nHelp us keep growing this page and share it\, tag people\, put on your story and let’s keep everyone in the know. Thank you for your support. 👍 \n** Trifecta Sports Collectibles DOES NOT set the date of the event or responsible for any cancellations. Trifecta Sports Collectibles is not affiliated with the event or any companies which put the event together. Trifecta Sports Collectibles ONLY helps promote the event for the benefit of the members that follow us. \n#eliminateFOMO #alwaysbeintheknow #whodoyoucollect #sportscards #pokemoncards #tcg #autographs #memorabilia #panini #publicsigning #supportyourlocalcardshow #supportyourlocalcardshop
URL:https://www.trifectacollectibles.com/event/the-card-attic-presents-the-fairfield-card-show-350-tables/
LOCATION:CA
CATEGORIES:All Events,Past Events,Sports Card/Memorabilia Shows
END:VEVENT
BEGIN:VEVENT
DTSTART;TZID=America/Los_Angeles:20230819T090000
DTEND;TZID=America/Los_Angeles:20230819T160000
DTSTAMP:20260422T015327
CREATED:20230714T162449Z
LAST-MODIFIED:20240109T232721Z
UID:8720-1692435600-1692460800@www.trifectacollectibles.com
SUMMARY:Auburn Trading Card Show
DESCRIPTION:Auburn Trading Card Show –  August 19th\, 2023 \nONE DAY ONLY:  9:00am to 4:00pm \nLocation: 3185 Bell Road\, Auburn\, Ca 95603 \nFREE ADMISSION!!! FREE PARKING!!! \nFor more information on this event or any other upcoming autograph shows\, stay in the know and follow our social media accounts below.\nInstagram: @trifecta_sports\nFacebook: Trifecta Sports Collectibles\nWebsite: www.TrifectaCollectibles.com \nHelp us keep growing this page and share it\, tag people\, put on your story and let’s keep everyone in the know. Thank you for your support. 👍 \n** Trifecta Sports Collectibles DOES NOT set the date of the event or responsible for any cancellations. Trifecta Sports Collectibles is not affiliated with the event or any companies which put the event together. Trifecta Sports Collectibles ONLY helps promote the event for the benefit of the members that follow us.
URL:https://www.trifectacollectibles.com/event/auburn-trading-card-show/
LOCATION:CA
CATEGORIES:All Events,Past Events,Sports Card/Memorabilia Shows
END:VEVENT
BEGIN:VEVENT
DTSTART;TZID=America/Los_Angeles:20230827T120000
DTEND;TZID=America/Los_Angeles:20230827T170000
DTSTAMP:20260422T015327
CREATED:20230817T090929Z
LAST-MODIFIED:20240109T232654Z
UID:8829-1693137600-1693155600@www.trifectacollectibles.com
SUMMARY:S & A Collectibles Presents a FUNKO & More Event (1 day only)
DESCRIPTION:FUNKO and MORE Event\nSunday\, August 27th (One Day Show Only)\nWHERE: S & A Collectibles\, 1143 Newpark Mall\, Newark\, Ca \nHOURS: 12:00pm – 5:00pm \nCOST: Customers – FREE Parking; NO Admission \nDETAILS: FUNKO POPS!\, Gaming\, Sports Cards\, Toys and More.  Visit their website @ https://s-acollectibles.com \nCONTACT PROMOTER: Shawn at 510-396-5116 or Send E-Mail to shawn@s-acollectibles.com \n* Trifecta Sports Collectibles DOES NOT set the date of the event or responsible for any cancellations.  Trifecta Sports Collectibles is not affiliated with the event or any companies which put the event together.  Trifecta Sports Collectibles ONLY helps promote the event for the benefit of the members that follow us. \n\nFor more information or if you have questions about the event contact the Promoter directly.
URL:https://www.trifectacollectibles.com/event/s-a-collectibles-presents-a-funko-more-event-1-day-only/
LOCATION:S & A Collectibles\, 2086 Newpark Mall\, Newark\, CA\, 94560\, United States
CATEGORIES:All Events,Past Events,Sports Card/Memorabilia Shows
END:VEVENT
END:VCALENDAR