BEGIN:VCALENDAR
VERSION:2.0
PRODID:-//Trifecta Sports Collectibles - ECPv6.15.20//NONSGML v1.0//EN
CALSCALE:GREGORIAN
METHOD:PUBLISH
X-ORIGINAL-URL:https://www.trifectacollectibles.com
X-WR-CALDESC:Events for Trifecta Sports Collectibles
REFRESH-INTERVAL;VALUE=DURATION:PT1H
X-Robots-Tag:noindex
X-PUBLISHED-TTL:PT1H
BEGIN:VTIMEZONE
TZID:America/Los_Angeles
BEGIN:DAYLIGHT
TZOFFSETFROM:-0800
TZOFFSETTO:-0700
TZNAME:PDT
DTSTART:20220313T100000
END:DAYLIGHT
BEGIN:STANDARD
TZOFFSETFROM:-0700
TZOFFSETTO:-0800
TZNAME:PST
DTSTART:20221106T090000
END:STANDARD
BEGIN:DAYLIGHT
TZOFFSETFROM:-0800
TZOFFSETTO:-0700
TZNAME:PDT
DTSTART:20230312T100000
END:DAYLIGHT
BEGIN:STANDARD
TZOFFSETFROM:-0700
TZOFFSETTO:-0800
TZNAME:PST
DTSTART:20231105T090000
END:STANDARD
BEGIN:DAYLIGHT
TZOFFSETFROM:-0800
TZOFFSETTO:-0700
TZNAME:PDT
DTSTART:20240310T100000
END:DAYLIGHT
BEGIN:STANDARD
TZOFFSETFROM:-0700
TZOFFSETTO:-0800
TZNAME:PST
DTSTART:20241103T090000
END:STANDARD
END:VTIMEZONE
BEGIN:VEVENT
DTSTART;VALUE=DATE:20230219
DTEND;VALUE=DATE:20230220
DTSTAMP:20260422T121106
CREATED:20221224T163251Z
LAST-MODIFIED:20230131T212100Z
UID:7949-1676764800-1676851199@www.trifectacollectibles.com
SUMMARY:Tom Rathman & Ricky Watters Autograph Event (Public Signing)
DESCRIPTION:Empire Sports & World of Sports Presents San Francisco 49er Tom Rathman and Ricky Watters\nFebruary 19th\, 2023\nTom Rathman: 1:00pm. – $40 – Any Item; No Inscriptions available for Tom Rathman\nRicky Watters – 3:00pm. – $55 – Any Item; $35 Inscriptions; $40 Photo Ops\nThis will be a PUBLIC SIGNING\, so come see Tom Rathman and get his autograph IN PERSON.  Purchase your tickets at the store now or the day of the event.  Any questions regarding this event\, you can reach out to them directly at worldofsportsmem@yahoo.com or 408-286-2151 \nBUT… \nIf you can’t attend the event\, Trifecta Sports Collectibles\, is an APPROVED Mail-In Partner to help you get the autograph(s) via our Mail-In Program.\nEmail me at trifectacollectibles@gmail.com for more information on how to mail your items in to get signed. Any questions\, please send me an email. \nStay in the know and follow our social media accounts below:\nInstagram: @trifecta_sports\nFacebook: Trifecta Sports Collectibles \n** Trifecta Sports Collectibles DOES NOT set the date of the event or responsible for any cancellations. Trifecta Sports Collectibles is not affiliated with the event or any companies which put the event together. Trifecta Sports Collectibles ONLY helps promote the event for the benefit of the members that follow us. \n \n 
URL:https://www.trifectacollectibles.com/event/tom-rathman-autograph-event-public-signing/
LOCATION:Westgate Mall\, 1600 Saratoga Ave #23E\, San Jose\, CA\, 95129\, United States
CATEGORIES:All Events,Autograph Signings,Sports Card/Memorabilia Shows
END:VEVENT
END:VCALENDAR