BEGIN:VCALENDAR
VERSION:2.0
PRODID:-//Trifecta Sports Collectibles - ECPv6.15.20//NONSGML v1.0//EN
CALSCALE:GREGORIAN
METHOD:PUBLISH
X-ORIGINAL-URL:https://www.trifectacollectibles.com
X-WR-CALDESC:Events for Trifecta Sports Collectibles
REFRESH-INTERVAL;VALUE=DURATION:PT1H
X-Robots-Tag:noindex
X-PUBLISHED-TTL:PT1H
BEGIN:VTIMEZONE
TZID:America/Los_Angeles
BEGIN:DAYLIGHT
TZOFFSETFROM:-0800
TZOFFSETTO:-0700
TZNAME:PDT
DTSTART:20210314T100000
END:DAYLIGHT
BEGIN:STANDARD
TZOFFSETFROM:-0700
TZOFFSETTO:-0800
TZNAME:PST
DTSTART:20211107T090000
END:STANDARD
BEGIN:DAYLIGHT
TZOFFSETFROM:-0800
TZOFFSETTO:-0700
TZNAME:PDT
DTSTART:20220313T100000
END:DAYLIGHT
BEGIN:STANDARD
TZOFFSETFROM:-0700
TZOFFSETTO:-0800
TZNAME:PST
DTSTART:20221106T090000
END:STANDARD
BEGIN:DAYLIGHT
TZOFFSETFROM:-0800
TZOFFSETTO:-0700
TZNAME:PDT
DTSTART:20230312T100000
END:DAYLIGHT
BEGIN:STANDARD
TZOFFSETFROM:-0700
TZOFFSETTO:-0800
TZNAME:PST
DTSTART:20231105T090000
END:STANDARD
END:VTIMEZONE
BEGIN:VEVENT
DTSTART;TZID=America/Los_Angeles:20221105T090000
DTEND;TZID=America/Los_Angeles:20221105T160000
DTSTAMP:20260422T171609
CREATED:20220525T211627Z
LAST-MODIFIED:20221107T225156Z
UID:7101-1667638800-1667664000@www.trifectacollectibles.com
SUMMARY:Sacramento Show @ the Wyndham Hotel
DESCRIPTION:Sports Cards & Collectibles Show\nNovember 5th\, 2022 (One Day Show Only)\nWHERE: Wyndham Sacramento\, 5321 Date Ave.\, Sacramento\, Ca 95841 \nHOURS: 9:00am – 4:00pm \nCOST: FREE Parking; NO Admission \nDETAILS: 70 Vendor Tables\, Buy/Sell/Trade Sports Cards/Non-Sports Cards/Memorabilia/Wax Boxes/Autographs and More \nCONTACT PROMOTER: Steve Westerson at 916-704-3865 with any questions or concerns or email at sacramentosportscardshows@gmail.com \n* Trifecta Sports Collectibles DOES NOT set the date of the event or responsible for any cancellations.  Trifecta Sports Collectibles is not affiliated with the event or any companies which put the event together.  Trifecta Sports Collectibles ONLY helps promote the event for the benefit of the members that follow us. \n\nFor more information or if you have questions about the event contact the Promoter directly.
URL:https://www.trifectacollectibles.com/event/sacramento-show/
LOCATION:Wyndham Sacramento Hotel\, 5321 Date Ave\, Sacramento\, CA\, 95841\, United States
CATEGORIES:All Events,Past Events,Sports Card/Memorabilia Shows
END:VEVENT
BEGIN:VEVENT
DTSTART;TZID=America/Los_Angeles:20221106T130000
DTEND;TZID=America/Los_Angeles:20221106T170000
DTSTAMP:20260422T171609
CREATED:20221020T095204Z
LAST-MODIFIED:20221107T225144Z
UID:7729-1667739600-1667754000@www.trifectacollectibles.com
SUMMARY:World of Sports & Empire Sports Presents Talanoa Hufanga & Jeff Wilson Jr. (Public Signing)
DESCRIPTION:Empire Sports & World of Sports Presents Talanoa Hufanga & Jeff Wilson Jr.\nNovember 6th\, 2022\, Signing begins at 1:00pm\nThis will be a PUBLIC SIGNING\, so come see Hufanga and Jeff Wilson Jr and get their autograph IN PERSON.  Purchase your tickets at the store now or the day of the event.  Any questions regarding this event\, you can reach out to them directly at worldofsportsmem@yahoo.com or 408-286-2151 \nBUT… \nIf you can’t attend the event\, you still can send in your items directly to the World of Sports Memorabilia’s Store inside Westgate Mall in San Jose.  Contact them directly via email at worldofsportsmem@yahoo.com or 408-286-2151 for more information on how to send your items to them directly. \nTalanoa Hufanga Pricing: November 6th (Signing at 4pm)\n$89 – Any Item\n$40 – Inscriptions\n$69 – Photo Ops \nJeff Wilson Jr. Pricing: November 6th (Signing at 1pm)\n$49 – Any Item\n$20 – Inscriptions$39 – Photo Ops \nStay in the know and follow our social media accounts below:\nInstagram: @trifecta_sports\nFacebook: Trifecta Sports Collectibles \n** Trifecta Sports Collectibles DOES NOT set the date of the event or responsible for any cancellations. Trifecta Sports Collectibles is not affiliated with the event or any companies which put the event together. Trifecta Sports Collectibles ONLY helps promote the event for the benefit of the members that follow us. \n \n 
URL:https://www.trifectacollectibles.com/event/world-of-sports-empire-sports-presents-talanoa-hufanga-jeff-wilson-jr-public-signing/
LOCATION:CA
CATEGORIES:All Events,Autograph Signings,Past Events,Sports Card/Memorabilia Shows
END:VEVENT
BEGIN:VEVENT
DTSTART;TZID=America/Los_Angeles:20221112T120000
DTEND;TZID=America/Los_Angeles:20221112T130000
DTSTAMP:20260422T171609
CREATED:20221020T091227Z
LAST-MODIFIED:20221125T091852Z
UID:7722-1668254400-1668258000@www.trifectacollectibles.com
SUMMARY:San Francisco Card Show Presents Spud Webb & Beckett Grading Onsite
DESCRIPTION:Spud Webb Public Autograph Event\nSan Francisco Card Show Presents Spud Webb Autograph Signing on November 12th from 12pm – 1pm. \nThis is a PUBLIC Autograph Event. You will be able to get your items signed IN PERSON by the athlete attending\nthis show. \nAutograph pricing: \n$35 – Any Item\n$20 – Inscription\n$35 – Photo Op\n$10 – Beckett Witness \nBeckett will also be present to take in submissions on-site.  Check out the photo for the pricing and details. \nFor more information on this event or any other upcoming autograph shows\, stay in the know and follow our social media accounts below. \nInstagram: @trifecta_sports\nFacebook: Trifecta Sports Collectibles\nWebsite: www.TrifectaCollectibles.com \n** Trifecta Sports Collectibles DOES NOT set the date of the event or responsible for any cancellations. Trifecta Sports Collectibles is not affiliated with the event or any companies which put the event together. Trifecta Sports Collectibles ONLY helps promote the event for the benefit of the members that follow us.
URL:https://www.trifectacollectibles.com/event/san-francisco-card-show-presents-spud-webb/
LOCATION:CA
CATEGORIES:All Events,Autograph Signings,Past Events,Sports Card/Memorabilia Shows
END:VEVENT
BEGIN:VEVENT
DTSTART;VALUE=DATE:20221118
DTEND;VALUE=DATE:20221120
DTSTAMP:20260422T171609
CREATED:20220505T210927Z
LAST-MODIFIED:20221125T091845Z
UID:7041-1668729600-1668902399@www.trifectacollectibles.com
SUMMARY:True Sports Cards Sacramento Autograph & Sports Card Expo (Public Signing)
DESCRIPTION:True Sportscards Presents: The Sacramento Autograph and Sports Card Expo. \nThis is a PUBLIC Autograph Event. You will be able to get your items signed IN PERSON by the athletes attending this show. Go to www.SacSportsCardExpo.com to purchase your autograph tickets in advance or you can buy them the day of the show. \nBUT… \nIf you can’t attend the event\, Trifecta Sports Collectibles is an APPROVED Mail-In Partner to help you get the autograph(s) via our Mail-In Program.\nEmail trifectacollectibles@gmail.com for more information on how to mail your items in to get signed. We are here to help. Any questions\, please send me an email. \nScheduled to appear: (Times & Dates Subject to change): \nNovember 18th\, Friday (3:00pm – 7:00pm)\nWWE/WWF Superstars and celebrities will have their own booth and will be available for autograph signings and photos from open to close.\n\nRikishi – $35.00 Any Item\nGreg “The Hammer” Valentine – $35 Any Item\nThe Godfather aka Charles Wright – pricing to be announced soon\nSgt. Slaughter – pricing to be announced soon\nThomas Ian Nicholas – pricing to be announced soon\n\nAlso appearing November 18th\, Friday \n\nDan Bunz (4:30pm – 5:30pm) – *One free autograph by Dan Bunz will be provided for the first 100 people with your purchase of a Friday Admission ticket.\nWilie Wilson (5:00pm – 6:00pm) – *One free autograph by Willie Wilson will be provided for the first 100 people with your purchase of a Friday Admission ticket.\nRudy Ruettiger (5:30pm – 6:30pm) – $30.00 Any Item; ticket also includes “Never Quit!” inscription\n\n—————- \n\n\nNovember 19th\, Saturday\n\n\n\nEric Wright (10:30am – 11:30am) – *FREE / Additional tickets also can be purchased\nJohn Taylor (11:00am – 12:00pm) – $35 Any Item\nTom Rathman (11:30pm – 12:30pm) – $35 Any Item\nJose Canseco (12:00pm – 1:00pm) – $35 Any Item\nJack Clark (12:30pm – 1:30pm) – $30 Any Item\nRuben Sierra (1:00pm – 2:00pm) – $30 Any Item\nMiguel Tejada (1:30pm – 2:30pm) – $35.00 Any Item\nDan Issel (2:00pm – 3:00pm) – $30.00 Any Item; ticket also includes “HOF ’93” inscription\nArtis Gilmore (2:30pm – 3:30pm) – $30.00 Any Item; ticket also includes “HOF ’11” inscription\nLaSalle Thompson (3:00pm – 4:00pm) – $20 Any Item\n\n  \nNovember 19th\, Saturday (9:00am – 6:00pm)\nWWE/WWF Superstars and Celebrities will have their own booth and will be available for autograph signings and photos from open to close.\n\nRikishi – $35.00 Any Item\nGreg “The Hammer” Valentine – $35 Any Item\nThe Godfather aka Charles Wright – pricing to be announced soon\nSgt. Slaughter – pricing to be announced soon\nThomas Ian Nicholas – pricing to be announced soon\n\n\n\nAdditional inscriptions can be purchased on site the date of the signing. \n\nGo to www.SacSportsCardExpo.com for more upcoming information. \nThis two day event will feature 15+ autograph guests from baseball\, football\, and basketball along with 80+ dealer tables!\nAttending the event? Autograph tickets will go on sale beginning June 6. \nStay in the know and follow our social media accounts below:\nInstagram: @trifecta_sports\nFacebook: Trifecta Sports Collectibles\nWebsite: www.TrifectaCollectibles.com
URL:https://www.trifectacollectibles.com/event/true-sports-cards-sacramento-autograph-sports-card-expo/
LOCATION:Rocklin Event Center\, 2650 Sunset Blvd\, Rocklin\, CA\, 95677
CATEGORIES:All Events,Autograph Signings,Past Events,Sports Card/Memorabilia Shows
END:VEVENT
BEGIN:VEVENT
DTSTART;TZID=America/Los_Angeles:20221120T080000
DTEND;TZID=America/Los_Angeles:20221120T170000
DTSTAMP:20260422T171609
CREATED:20221028T222228Z
LAST-MODIFIED:20221125T091836Z
UID:7772-1668931200-1668963600@www.trifectacollectibles.com
SUMMARY:S & A Collectibles Funko & More Event
DESCRIPTION:FUNKO and MORE Event\nNovember 20th\, 2022 (One Day Show Only)\nWHERE: S & A Collectibles\, 1143 Newpark Mall\, Newark\, Ca \nHOURS: 12:00pm – 5:00pm \nCOST: Customers – FREE Parking; NO Admission \nDETAILS: FUNKO POPS!\, Gaming\, Sports Cards\, Toys and More.  Visit their website @ https://s-acollectibles.com \nCONTACT PROMOTER: Shawn at 510-396-5116 or Send E-Mail to shawn@s-acollectibles.com \n* Trifecta Sports Collectibles DOES NOT set the date of the event or responsible for any cancellations.  Trifecta Sports Collectibles is not affiliated with the event or any companies which put the event together.  Trifecta Sports Collectibles ONLY helps promote the event for the benefit of the members that follow us. \n\nFor more information or if you have questions about the event contact the Promoter directly.
URL:https://www.trifectacollectibles.com/event/s-a-collectibles-funko-more-event-2/
LOCATION:S & A Collectibles\, 2086 Newpark Mall\, Newark\, CA\, 94560\, United States
CATEGORIES:All Events,Past Events,Sports Card/Memorabilia Shows
END:VEVENT
END:VCALENDAR