BEGIN:VCALENDAR
VERSION:2.0
PRODID:-//Trifecta Sports Collectibles - ECPv6.15.20//NONSGML v1.0//EN
CALSCALE:GREGORIAN
METHOD:PUBLISH
X-ORIGINAL-URL:https://www.trifectacollectibles.com
X-WR-CALDESC:Events for Trifecta Sports Collectibles
REFRESH-INTERVAL;VALUE=DURATION:PT1H
X-Robots-Tag:noindex
X-PUBLISHED-TTL:PT1H
BEGIN:VTIMEZONE
TZID:America/Los_Angeles
BEGIN:DAYLIGHT
TZOFFSETFROM:-0800
TZOFFSETTO:-0700
TZNAME:PDT
DTSTART:20210314T100000
END:DAYLIGHT
BEGIN:STANDARD
TZOFFSETFROM:-0700
TZOFFSETTO:-0800
TZNAME:PST
DTSTART:20211107T090000
END:STANDARD
BEGIN:DAYLIGHT
TZOFFSETFROM:-0800
TZOFFSETTO:-0700
TZNAME:PDT
DTSTART:20220313T100000
END:DAYLIGHT
BEGIN:STANDARD
TZOFFSETFROM:-0700
TZOFFSETTO:-0800
TZNAME:PST
DTSTART:20221106T090000
END:STANDARD
BEGIN:DAYLIGHT
TZOFFSETFROM:-0800
TZOFFSETTO:-0700
TZNAME:PDT
DTSTART:20230312T100000
END:DAYLIGHT
BEGIN:STANDARD
TZOFFSETFROM:-0700
TZOFFSETTO:-0800
TZNAME:PST
DTSTART:20231105T090000
END:STANDARD
END:VTIMEZONE
BEGIN:VEVENT
DTSTART;VALUE=DATE:20220716
DTEND;VALUE=DATE:20220718
DTSTAMP:20260422T233135
CREATED:20220215T235922Z
LAST-MODIFIED:20220720T001715Z
UID:6582-1657929600-1658102399@www.trifectacollectibles.com
SUMMARY:Empire Sports & World of Sports Presents Monthly Sports Card & Autograph Shows
DESCRIPTION:Empire Sports & World of Sports Presents Monthly Sports Card & Autograph Shows\nJuly 16th and 17th\, 2022 (Autograph Guest to be announced soon) \nThis will be a PUBLIC SIGNING\, so come see the Athlete/Celebrity and get his autograph in person. \nHOWEVER… \nIf you can’t attend the event and wanted an item signed\, email me at trifectacollectibles@gmail.com and I can work with you on how to mail in an item to get signed. We got you covered. 👍 \nTrifecta Sports WILL be at the event to get your items signed in person.  Exact time of signing will be updated once more information is released. \nPricing:\nFlats:  (Photos up to 11×14\, Magazines\, Cards)\nPremium:  (Jerseys\, Photos 16×20 or bigger\, Basketballs)\nInscriptions:  (Up to 4 words)\nPhoto Ops: \n** Trifecta Sports Collectibles DOES NOT set the date of the event or responsible for any cancellations. Trifecta Sports Collectibles is not affiliated with the event or any companies which put the event together. Trifecta Sports Collectibles ONLY helps promote the event for the benefit of the members that follow us.
URL:https://www.trifectacollectibles.com/event/empire-sports-world-of-sports-presents-monthly-sports-card-autograph-shows-3/
LOCATION:Westgate Mall\, 1600 Saratoga Ave #23E\, San Jose\, CA\, 95129\, United States
CATEGORIES:All Events,Autograph Signings,Past Events,Sports Card/Memorabilia Shows
END:VEVENT
BEGIN:VEVENT
DTSTART;TZID=America/Los_Angeles:20220731T120000
DTEND;TZID=America/Los_Angeles:20220731T180000
DTSTAMP:20260422T233135
CREATED:20220624T154928Z
LAST-MODIFIED:20220824T075802Z
UID:7229-1659268800-1659290400@www.trifectacollectibles.com
SUMMARY:S & A Collectibles Funko and More Event
DESCRIPTION:FUNKO and MORE Event\nJuly 31st\, 2022 (One Day Show Only)\nWHERE: S & A Collectibles\, 1143 Newpark Mall\, Newark\, Ca \nHOURS: 12:00pm – 6:00pm \nCOST: Customers – FREE Parking; NO Admission \nDETAILS: FUNKO POPS!\, Gaming\, Sports Cards\, Toys and More.  Visit their website @ https://s-acollectibles.com \nCONTACT PROMOTER: Shawn at 510-396-5116 or Send E-Mail to shawn@s-acollectibles.com \n* Trifecta Sports Collectibles DOES NOT set the date of the event or responsible for any cancellations.  Trifecta Sports Collectibles is not affiliated with the event or any companies which put the event together.  Trifecta Sports Collectibles ONLY helps promote the event for the benefit of the members that follow us. \n\nFor more information or if you have questions about the event contact the Promoter directly. \n \n 
URL:https://www.trifectacollectibles.com/event/s-a-collectibles-funko-and-more-event-3/
CATEGORIES:All Events,Past Events,Sports Card/Memorabilia Shows
END:VEVENT
END:VCALENDAR