BEGIN:VCALENDAR
VERSION:2.0
PRODID:-//Trifecta Sports Collectibles - ECPv6.15.20//NONSGML v1.0//EN
CALSCALE:GREGORIAN
METHOD:PUBLISH
X-WR-CALNAME:Trifecta Sports Collectibles
X-ORIGINAL-URL:https://www.trifectacollectibles.com
X-WR-CALDESC:Events for Trifecta Sports Collectibles
REFRESH-INTERVAL;VALUE=DURATION:PT1H
X-Robots-Tag:noindex
X-PUBLISHED-TTL:PT1H
BEGIN:VTIMEZONE
TZID:America/Los_Angeles
BEGIN:DAYLIGHT
TZOFFSETFROM:-0800
TZOFFSETTO:-0700
TZNAME:PDT
DTSTART:20210314T100000
END:DAYLIGHT
BEGIN:STANDARD
TZOFFSETFROM:-0700
TZOFFSETTO:-0800
TZNAME:PST
DTSTART:20211107T090000
END:STANDARD
BEGIN:DAYLIGHT
TZOFFSETFROM:-0800
TZOFFSETTO:-0700
TZNAME:PDT
DTSTART:20220313T100000
END:DAYLIGHT
BEGIN:STANDARD
TZOFFSETFROM:-0700
TZOFFSETTO:-0800
TZNAME:PST
DTSTART:20221106T090000
END:STANDARD
BEGIN:DAYLIGHT
TZOFFSETFROM:-0800
TZOFFSETTO:-0700
TZNAME:PDT
DTSTART:20230312T100000
END:DAYLIGHT
BEGIN:STANDARD
TZOFFSETFROM:-0700
TZOFFSETTO:-0800
TZNAME:PST
DTSTART:20231105T090000
END:STANDARD
END:VTIMEZONE
BEGIN:VEVENT
DTSTART;VALUE=DATE:20220115
DTEND;VALUE=DATE:20220117
DTSTAMP:20260425T060103
CREATED:20211215T235409Z
LAST-MODIFIED:20211217T231534Z
UID:6338-1642204800-1642377599@www.trifectacollectibles.com
SUMMARY:JSA Authentication Event
DESCRIPTION:World of Sports Memorabilia Presents: JSA Authentication Event\nJanuary 15th\, 2022 – On Site from Saturday 10am – 6pm; Sunday 10am – 5pm\nBring your sports memorabilia items from home to get authenticated!\nWHERE: Westgate Center – 1600 Saratoga Ave\, San Jose\, Ca 95129 \nHOURS: Regular Mall Hours \nCOST: Varies on item \nCONTACT PROMOTER: 408-286-2151 or Send E-Mail to worldofsportsmem@yahoo.com \n* Trifecta Sports Collectibles DOES NOT set the date of the event or responsible for any cancellations.  Trifecta Sports Collectibles is not affiliated with the event or any companies which put the event together.  Trifecta Sports Collectibles ONLY helps promote the event for the benefit of the members that follow us. For more information or if you have questions about the event contact the Promoter directly.
URL:https://www.trifectacollectibles.com/event/6338/
LOCATION:Westgate Mall\, 1600 Saratoga Ave #23E\, San Jose\, CA\, 95129\, United States
CATEGORIES:All Events,Special Event,Sports Card/Memorabilia Shows
END:VEVENT
BEGIN:VEVENT
DTSTART;VALUE=DATE:20220115
DTEND;VALUE=DATE:20220116
DTSTAMP:20260425T060104
CREATED:20211216T225610Z
LAST-MODIFIED:20220405T225935Z
UID:6127-1642204800-1642291199@www.trifectacollectibles.com
SUMMARY:Frank "The Tank" Gore Autograph Event (Public Signing)
DESCRIPTION:World of Sports Memorabilia Presents: Silicon Valley Trade Card Show & Autograph Event\nFrank Gore (Public Autograph Appearance) January 15th\, 2022 Time To Be Determined\nPricing: \nPresale – $69.00 any item or photo op (Expires December 15th)\nAfter 12/15/21: $89.00 any item\nWHERE: Westgate Center – 1600 Saratoga Ave\, San Jose\, Ca 95129 \nHOURS: Regular Mall Hours \nCOST: FREE Parking; NO Admission \nCONTACT PROMOTER: 408-286-2151 or Send E-Mail to worldofsportsmem@yahoo.com \nDETAILS: Remember\, if you can’t make a this signing\, send us a message and we can try our best to help and get that autograph for you. \n* Trifecta Sports Collectibles DOES NOT set the date of the event or responsible for any cancellations.  Trifecta Sports Collectibles is not affiliated with the event or any companies which put the event together.  Trifecta Sports Collectibles ONLY helps promote the event for the benefit of the members that follow us. For more information or if you have questions about the event contact the Promoter directly.
URL:https://www.trifectacollectibles.com/event/frank-the-tank-gore-autograph-event-public-signing/
LOCATION:Westgate Mall\, 1600 Saratoga Ave #23E\, San Jose\, CA\, 95129\, United States
CATEGORIES:All Events,Autograph Signings,Past Events,Sports Card/Memorabilia Shows
END:VEVENT
BEGIN:VEVENT
DTSTART;VALUE=DATE:20220129
DTEND;VALUE=DATE:20220131
DTSTAMP:20260425T060104
CREATED:20220114T215811Z
LAST-MODIFIED:20220405T225916Z
UID:6515-1643414400-1643587199@www.trifectacollectibles.com
SUMMARY:Serramonte Sports Card & Collectibles Mall Show
DESCRIPTION:Serramonte Sports Card & Collectible Mall Show\nSaturday\, Jan. 29 – 10am – 9pm\nSunday\, Jan. 30 – 11am -7pm\nFREE Admission & FREE Parking \nFREE $3500.00\nSports Memorabilia Drawing\nAutographed\, custom matted and framed Ted Williams – Mickey Mantle – Phil Mickelson. \nEnter all show hours – winners need not be present to win! \nFREE Autographed Sports Photos\n11am – 2pm Sunday near Starbucks \nSerramonte Center\n3 Serramonte Blvd\nDaly City\, Ca 94015
URL:https://www.trifectacollectibles.com/event/serramonte-sports-card-collectibles-mall-show/
LOCATION:Serramonte Mall\, Serramonte Blvd.\, Daly City\, CA\, 94015\, United States
CATEGORIES:All Events,Past Events,Sports Card/Memorabilia Shows
END:VEVENT
END:VCALENDAR