BEGIN:VCALENDAR
VERSION:2.0
PRODID:-//Trifecta Sports Collectibles - ECPv6.15.20//NONSGML v1.0//EN
CALSCALE:GREGORIAN
METHOD:PUBLISH
X-WR-CALNAME:Trifecta Sports Collectibles
X-ORIGINAL-URL:https://www.trifectacollectibles.com
X-WR-CALDESC:Events for Trifecta Sports Collectibles
REFRESH-INTERVAL;VALUE=DURATION:PT1H
X-Robots-Tag:noindex
X-PUBLISHED-TTL:PT1H
BEGIN:VTIMEZONE
TZID:America/Los_Angeles
BEGIN:DAYLIGHT
TZOFFSETFROM:-0800
TZOFFSETTO:-0700
TZNAME:PDT
DTSTART:20240310T100000
END:DAYLIGHT
BEGIN:STANDARD
TZOFFSETFROM:-0700
TZOFFSETTO:-0800
TZNAME:PST
DTSTART:20241103T090000
END:STANDARD
BEGIN:DAYLIGHT
TZOFFSETFROM:-0800
TZOFFSETTO:-0700
TZNAME:PDT
DTSTART:20250309T100000
END:DAYLIGHT
BEGIN:STANDARD
TZOFFSETFROM:-0700
TZOFFSETTO:-0800
TZNAME:PST
DTSTART:20251102T090000
END:STANDARD
BEGIN:DAYLIGHT
TZOFFSETFROM:-0800
TZOFFSETTO:-0700
TZNAME:PDT
DTSTART:20260308T100000
END:DAYLIGHT
BEGIN:STANDARD
TZOFFSETFROM:-0700
TZOFFSETTO:-0800
TZNAME:PST
DTSTART:20261101T090000
END:STANDARD
END:VTIMEZONE
BEGIN:VEVENT
DTSTART;TZID=America/Los_Angeles:20250208T130000
DTEND;TZID=America/Los_Angeles:20250208T140000
DTSTAMP:20260425T163706
CREATED:20250207T202821Z
LAST-MODIFIED:20250324T164701Z
UID:13088-1739019600-1739023200@www.trifectacollectibles.com
SUMMARY:Gary Payton Sr. FREE SIGNING Event
DESCRIPTION:Free Signing!! Gary Payton Sr. will be appearing at the AT&T Store in San Bruno this Saturday February 8th. \nSigning from 1:00pm – 2:00pm\nLocation: 1206 El Camino Real\, San Bruno\, CA 94066 \nFollow @trifecta_sports on Instagram for more event notifications like this one. \n* Like every Free Signing\, expect the worst and hope for the best. For more details on if he will sign outside items\, first come first serve or if they will be handing out bracelets\, call the store directly. I am NOT part of the event or affiliated in any way. If you want to share any info\, please comment below. Thanks!!! \nWith the All Star Game coming here next week\, hopefully more of these free events start popping up. So make sure to keep checking in and turn your notifications on. \nHelp us keep growing this page and share it\, tag people\, put on your story and let’s keep everyone in the know. Thank you for your support. 👍 \nAlways stay in the know and follow our social media accounts below.\nInstagram: @trifecta_sports\nFacebook: Trifecta Sports Collectibles \n** Trifecta Sports Collectibles DOES NOT set the date of the event or responsible for any cancellations. Trifecta Sports Collectibles is not affiliated with the event or any companies which put the event together. Trifecta Sports Collectibles ONLY helps promote the event for the benefit of the members that follow us.
URL:https://www.trifectacollectibles.com/event/gary-payton-sr-free-signing-event/
LOCATION:At&t Store\, 1206 El Camino Real\, San Bruno\,\, Ca\, 94066
CATEGORIES:All Events,Autograph Signings,Past Events,Special Event
END:VEVENT
END:VCALENDAR