BEGIN:VCALENDAR
VERSION:2.0
PRODID:-//Trifecta Sports Collectibles - ECPv6.15.20//NONSGML v1.0//EN
CALSCALE:GREGORIAN
METHOD:PUBLISH
X-WR-CALNAME:Trifecta Sports Collectibles
X-ORIGINAL-URL:https://www.trifectacollectibles.com
X-WR-CALDESC:Events for Trifecta Sports Collectibles
REFRESH-INTERVAL;VALUE=DURATION:PT1H
X-Robots-Tag:noindex
X-PUBLISHED-TTL:PT1H
BEGIN:VTIMEZONE
TZID:America/Los_Angeles
BEGIN:DAYLIGHT
TZOFFSETFROM:-0800
TZOFFSETTO:-0700
TZNAME:PDT
DTSTART:20230312T100000
END:DAYLIGHT
BEGIN:STANDARD
TZOFFSETFROM:-0700
TZOFFSETTO:-0800
TZNAME:PST
DTSTART:20231105T090000
END:STANDARD
BEGIN:DAYLIGHT
TZOFFSETFROM:-0800
TZOFFSETTO:-0700
TZNAME:PDT
DTSTART:20240310T100000
END:DAYLIGHT
BEGIN:STANDARD
TZOFFSETFROM:-0700
TZOFFSETTO:-0800
TZNAME:PST
DTSTART:20241103T090000
END:STANDARD
BEGIN:DAYLIGHT
TZOFFSETFROM:-0800
TZOFFSETTO:-0700
TZNAME:PDT
DTSTART:20250309T100000
END:DAYLIGHT
BEGIN:STANDARD
TZOFFSETFROM:-0700
TZOFFSETTO:-0800
TZNAME:PST
DTSTART:20251102T090000
END:STANDARD
END:VTIMEZONE
BEGIN:VEVENT
DTSTART;VALUE=DATE:20241222
DTEND;VALUE=DATE:20241223
DTSTAMP:20260425T191853
CREATED:20241218T094514Z
LAST-MODIFIED:20250324T164742Z
UID:12898-1734825600-1734911999@www.trifectacollectibles.com
SUMMARY:Stephen Curry at Sneaker Con
DESCRIPTION:Information below is from the Instagram Post via SneakerCon… \nThe Bay’s very own Stephen Curry will be stopping by Sneaker Con Bay Area to discuss the life & legacy he has built in The Bay\, Curry Brand\, and to unveil a special Curry 12 for the upcoming 2025 All-Star Game in San Francisco. \nJoin Stephen Curry on Sunday\, December 22\, 2024 at Sneaker Con Bay Area. \n\nHe is scheduled to appear on 12/22/24 ONLY.  Not sure about all the details\, but just giving you a heads up about his appearance.\nAny questions\, please direct them to the promoters of Sneaker Con Bay Area. \nI DO NOT HAVE ANY FURTHER INFORMATION REGARDING THIS EVENT AND HIS APPEARANCE.
URL:https://www.trifectacollectibles.com/event/stephen-curry-at-sneakercon/
LOCATION:Santa Clara Convention Center\, 5001 Great America Parkway\, Santa Clara\, Ca\, 95054
CATEGORIES:All Events,Past Events,Special Event
END:VEVENT
END:VCALENDAR