BEGIN:VCALENDAR
VERSION:2.0
PRODID:-//Trifecta Sports Collectibles - ECPv6.15.20//NONSGML v1.0//EN
CALSCALE:GREGORIAN
METHOD:PUBLISH
X-ORIGINAL-URL:https://www.trifectacollectibles.com
X-WR-CALDESC:Events for Trifecta Sports Collectibles
REFRESH-INTERVAL;VALUE=DURATION:PT1H
X-Robots-Tag:noindex
X-PUBLISHED-TTL:PT1H
BEGIN:VTIMEZONE
TZID:America/Los_Angeles
BEGIN:DAYLIGHT
TZOFFSETFROM:-0800
TZOFFSETTO:-0700
TZNAME:PDT
DTSTART:20230312T100000
END:DAYLIGHT
BEGIN:STANDARD
TZOFFSETFROM:-0700
TZOFFSETTO:-0800
TZNAME:PST
DTSTART:20231105T090000
END:STANDARD
BEGIN:DAYLIGHT
TZOFFSETFROM:-0800
TZOFFSETTO:-0700
TZNAME:PDT
DTSTART:20240310T100000
END:DAYLIGHT
BEGIN:STANDARD
TZOFFSETFROM:-0700
TZOFFSETTO:-0800
TZNAME:PST
DTSTART:20241103T090000
END:STANDARD
BEGIN:DAYLIGHT
TZOFFSETFROM:-0800
TZOFFSETTO:-0700
TZNAME:PDT
DTSTART:20250309T100000
END:DAYLIGHT
BEGIN:STANDARD
TZOFFSETFROM:-0700
TZOFFSETTO:-0800
TZNAME:PST
DTSTART:20251102T090000
END:STANDARD
END:VTIMEZONE
BEGIN:VEVENT
DTSTART;TZID=America/Los_Angeles:20241220T150000
DTEND;TZID=America/Los_Angeles:20241220T170000
DTSTAMP:20260425T192202
CREATED:20241218T090223Z
LAST-MODIFIED:20250324T164757Z
UID:12885-1734706800-1734714000@www.trifectacollectibles.com
SUMMARY:Bayley's Toy Drive Event
DESCRIPTION:Information below comes directly via her Instagram Post… \nFriday\, December 20! If you live in the Bay Area\, come hangout at my toy drive with Child Advocates of Silicon Valley to support foster youth! We will have games\, specialty coffee’s\, hot chocolate and a food truck! \nDetails:\n509 Valley Way building 2\n(Back door. Front says 529)\nMilpitas\, CA\, 95035 \n3-6pm \nBring an unwrapped gift to join the raffle!\n1 gift = 1 ticket\n2 gifts = 2 tickets\nEtc\, etc \nAnything is appreciated!! But @childadvocatessv have mentioned that there are some favorites and yearly neccesities:\n-Crayola products\n-Barbie\n-Hot Wheels\n-Legos\n-Play dough \n\nAny questions\, contact Childs Advocates of Silicon Valley directly.   \nAlways stay in the know and follow our social media accounts below. \nInstagram: @trifecta_sports\nFacebook: Trifecta Sports Collectibles\nWebsite: www.TrifectaCollectibles.com \n** Trifecta Sports Collectibles DOES NOT set the date of the event or responsible for any cancellations. Trifecta Sports Collectibles is not affiliated with the event or any companies which put the event together. Trifecta Sports Collectibles ONLY helps promote the event for the benefit of the members that follow us. \n \n 
URL:https://www.trifectacollectibles.com/event/bayleys-toy-drive-event/
CATEGORIES:All Events,Past Events,Special Event
END:VEVENT
END:VCALENDAR