BEGIN:VCALENDAR
VERSION:2.0
PRODID:-//Trifecta Sports Collectibles - ECPv6.15.20//NONSGML v1.0//EN
CALSCALE:GREGORIAN
METHOD:PUBLISH
X-ORIGINAL-URL:https://www.trifectacollectibles.com
X-WR-CALDESC:Events for Trifecta Sports Collectibles
REFRESH-INTERVAL;VALUE=DURATION:PT1H
X-Robots-Tag:noindex
X-PUBLISHED-TTL:PT1H
BEGIN:VTIMEZONE
TZID:America/Los_Angeles
BEGIN:DAYLIGHT
TZOFFSETFROM:-0800
TZOFFSETTO:-0700
TZNAME:PDT
DTSTART:20230312T100000
END:DAYLIGHT
BEGIN:STANDARD
TZOFFSETFROM:-0700
TZOFFSETTO:-0800
TZNAME:PST
DTSTART:20231105T090000
END:STANDARD
BEGIN:DAYLIGHT
TZOFFSETFROM:-0800
TZOFFSETTO:-0700
TZNAME:PDT
DTSTART:20240310T100000
END:DAYLIGHT
BEGIN:STANDARD
TZOFFSETFROM:-0700
TZOFFSETTO:-0800
TZNAME:PST
DTSTART:20241103T090000
END:STANDARD
BEGIN:DAYLIGHT
TZOFFSETFROM:-0800
TZOFFSETTO:-0700
TZNAME:PDT
DTSTART:20250309T100000
END:DAYLIGHT
BEGIN:STANDARD
TZOFFSETFROM:-0700
TZOFFSETTO:-0800
TZNAME:PST
DTSTART:20251102T090000
END:STANDARD
END:VTIMEZONE
BEGIN:VEVENT
DTSTART;TZID=America/Los_Angeles:20241118T173000
DTEND;TZID=America/Los_Angeles:20241118T190000
DTSTAMP:20260425T205542
CREATED:20241114T095358Z
LAST-MODIFIED:20250324T164815Z
UID:12709-1731951000-1731956400@www.trifectacollectibles.com
SUMMARY:Fred Warner Meet and Greet Thanksgiving Food Drive
DESCRIPTION:Following information is coming directly from Fred Warners Instagram Account: \nI am excited to share that I am teaming up with Venardi Zurada\, The Official Injury Attorneys of the San Francisco @49ers\, once again for their 3rd Annual Thanksgiving Food Drive benefiting the Food Bank of Contra Costa and Solano County Food Bank. Join me and @venardi_zurada on Monday\, November 18th from 5:30pm-7:00pm as I personally accept non perishable food donations at their Walnut Creek office. 🦃 \nLocation: 101 Ygnacio Valley Road\, Suite 100\, Walnut Creek\, CA 94596\n*NO PARKING ALLOWED ON PREMISE! PLEASE USE BART PARKING ACROSS THE STREET* \n\nPhoto Opps for ALL\nAutographs and Swag for first 100 FANS\nAbsolutely NO personal items will be signed\n\n \n  \n  \n  \n  \n  \n  \n  \n  \n  \n  \n  \nFred Warner is an awesome person for being so involved in the community.  Support the cause and make sure to donate non perishable goods to the Food Bank of Contra Costa and Solano County.\nAll the information on this post is ALL the information I know.\nAlways stay in the know and follow our social media accounts below. \nInstagram: @trifecta_sports\nFacebook: Trifecta Sports Collectibles\nWebsite: www.TrifectaCollectibles.com \n* Trifecta Sports Collectibles DOES NOT set the date of the event or responsible for any cancellations. Trifecta Sports Collectibles is not affiliated with this event or any companies which put the event together. Trifecta Sports Collectibles ONLY helps promote the event for the benefit of the members that follow us.
URL:https://www.trifectacollectibles.com/event/fred-warner-meet-and-greet-thanksgiving-food-drive/
CATEGORIES:All Events,Past Events,Special Event
END:VEVENT
END:VCALENDAR