BEGIN:VCALENDAR
VERSION:2.0
PRODID:-//Trifecta Sports Collectibles - ECPv6.15.20//NONSGML v1.0//EN
CALSCALE:GREGORIAN
METHOD:PUBLISH
X-WR-CALNAME:Trifecta Sports Collectibles
X-ORIGINAL-URL:https://www.trifectacollectibles.com
X-WR-CALDESC:Events for Trifecta Sports Collectibles
REFRESH-INTERVAL;VALUE=DURATION:PT1H
X-Robots-Tag:noindex
X-PUBLISHED-TTL:PT1H
BEGIN:VTIMEZONE
TZID:America/Los_Angeles
BEGIN:DAYLIGHT
TZOFFSETFROM:-0800
TZOFFSETTO:-0700
TZNAME:PDT
DTSTART:20230312T100000
END:DAYLIGHT
BEGIN:STANDARD
TZOFFSETFROM:-0700
TZOFFSETTO:-0800
TZNAME:PST
DTSTART:20231105T090000
END:STANDARD
BEGIN:DAYLIGHT
TZOFFSETFROM:-0800
TZOFFSETTO:-0700
TZNAME:PDT
DTSTART:20240310T100000
END:DAYLIGHT
BEGIN:STANDARD
TZOFFSETFROM:-0700
TZOFFSETTO:-0800
TZNAME:PST
DTSTART:20241103T090000
END:STANDARD
BEGIN:DAYLIGHT
TZOFFSETFROM:-0800
TZOFFSETTO:-0700
TZNAME:PDT
DTSTART:20250309T100000
END:DAYLIGHT
BEGIN:STANDARD
TZOFFSETFROM:-0700
TZOFFSETTO:-0800
TZNAME:PST
DTSTART:20251102T090000
END:STANDARD
END:VTIMEZONE
BEGIN:VEVENT
DTSTART;TZID=America/Los_Angeles:20241112T120000
DTEND;TZID=America/Los_Angeles:20241112T130000
DTSTAMP:20260425T210119
CREATED:20241110T093447Z
LAST-MODIFIED:20241118T011719Z
UID:12679-1731412800-1731416400@www.trifectacollectibles.com
SUMMARY:Brock Purdy Photo Opportunity (Lucky's Supermarket)
DESCRIPTION:Here’s an opportunity to meet Brock Purdy in person and take a photo with him.\nI have NO additional information about the event 😁😁😁 but Trifecta Sports will always keep you in the know so you don’t miss any events like this one. \nSo make sure to follow us @trifecta_sports \nInformation is coming from Lucky’s Supermarket Instagram Account…\nPhoto Opportunity only. No memorabilia will be signed. That’s what it states but I say always be prepared. 😁 \nWhen: November 12th\, 2024 from 12:00-1:00pm\nWhere: 565 W Capitol Expressway\, San Jose\, CA \nFirst 100 receive a poster.\nFor more information about his event\, I suggest contacting the Lucky’s directly to get the details. \nFrom past events like this one\, the process will change 10x’s before the actual event. So keep that in mind.\nI don’t want to relay any wrong info to you\, so again\, your best bet is to contact them directly. Here’s my advice to any one going to this event. Expect the worse and hope for the best. Again\, all the information on this post is ALL the information I know. Good luck and stay safe out there. \nAlways be in the know and follow our social media accounts below. \nInstagram: @trifecta_sports\nFacebook: Trifecta Sports Collectibles\nWebsite: www.TrifectaCollectibles.com \n* Trifecta Sports Collectibles DOES NOT set the date of the event or responsible for any cancellations. Trifecta Sports Collectibles is not affiliated with this event or any companies which put the event together. Trifecta Sports Collectibles ONLY helps promote the event for the benefit of the members that follow us.
URL:https://www.trifectacollectibles.com/event/brock-purdy-photo-opportunity-luckys-supermarket/
LOCATION:Lucky’s Supermarket\, 565 West Capitol Expressway\, San Jose\, Ca\, 95136\, United States
CATEGORIES:All Events,Past Events,Special Event
END:VEVENT
END:VCALENDAR